BEGIN:VCALENDAR
VERSION:2.0
PRODID:-//ODCEC Catania - ECPv6.8.1//NONSGML v1.0//EN
CALSCALE:GREGORIAN
METHOD:PUBLISH
X-WR-CALNAME:ODCEC Catania
X-ORIGINAL-URL:https://odcec.ct.it
X-WR-CALDESC:Eventi per ODCEC Catania
REFRESH-INTERVAL;VALUE=DURATION:PT1H
X-Robots-Tag:noindex
X-PUBLISHED-TTL:PT1H
BEGIN:VTIMEZONE
TZID:Europe/Rome
BEGIN:DAYLIGHT
TZOFFSETFROM:+0100
TZOFFSETTO:+0200
TZNAME:CEST
DTSTART:20240331T010000
END:DAYLIGHT
BEGIN:STANDARD
TZOFFSETFROM:+0200
TZOFFSETTO:+0100
TZNAME:CET
DTSTART:20241027T010000
END:STANDARD
END:VTIMEZONE
BEGIN:VEVENT
DTSTART;TZID=Europe/Rome:20240322T090000
DTEND;TZID=Europe/Rome:20240322T130000
DTSTAMP:20260423T005824
CREATED:20240729T101300Z
LAST-MODIFIED:20241119T164715Z
UID:40373-1711098000-1711112400@odcec.ct.it
SUMMARY:Sostenibilità in Movimento: Impatti della Formazione all'interno di AMTS e utilizzo del Fondo Interprofessionale Fonservizi
DESCRIPTION:
URL:https://odcec.ct.it/dettaglio-evento/sostenibilit-in-movimento-impatti-della-formazione-allinterno-di-amts-e-utilizzo-del-fondo-interprofessionale-fonservizi/
CATEGORIES:Eventi FPC
END:VEVENT
BEGIN:VEVENT
DTSTART;TZID=Europe/Rome:20240322T090000
DTEND;TZID=Europe/Rome:20240322T130000
DTSTAMP:20260423T005824
CREATED:20240729T101300Z
LAST-MODIFIED:20241119T164715Z
UID:40374-1711098000-1711112400@odcec.ct.it
SUMMARY:PRINCIPI E RISULTATI NUOVO CODICE APPALTI: CCNL\, CLAUSOLA SOCIALE E REVISIONE PREZZI NEI CONTRATTI PUBBLICI
DESCRIPTION:
URL:https://odcec.ct.it/dettaglio-evento/principi-e-risultati-nuovo-codice-appalti-ccnl-clausola-sociale-e-revisione-prezzi-nei-contratti-pubblici/
CATEGORIES:Eventi FPC
END:VEVENT
BEGIN:VEVENT
DTSTART;TZID=Europe/Rome:20240322T090000
DTEND;TZID=Europe/Rome:20240322T183000
DTSTAMP:20260423T005824
CREATED:20240729T101300Z
LAST-MODIFIED:20241119T164715Z
UID:40375-1711098000-1711132200@odcec.ct.it
SUMMARY:CODICE DELLA CRISI E DELL'INSOLVENZA: INCERTEZZE INTERPRETATIVE NELLE PROCEDURE MINORI
DESCRIPTION:
URL:https://odcec.ct.it/dettaglio-evento/codice-della-crisi-e-dellinsolvenza-incertezze-interpretative-nelle-procedure-minori/
CATEGORIES:Eventi FPC
END:VEVENT
BEGIN:VEVENT
DTSTART;TZID=Europe/Rome:20240323T090000
DTEND;TZID=Europe/Rome:20240323T130000
DTSTAMP:20260423T005824
CREATED:20240729T101300Z
LAST-MODIFIED:20241119T164715Z
UID:40376-1711184400-1711198800@odcec.ct.it
SUMMARY:CODICE DELLA CRISI E DELL'INSOLVENZA: INCERTEZZE INTERPRETATIVE NELLE PROCEDURE MINORI
DESCRIPTION:
URL:https://odcec.ct.it/dettaglio-evento/codice-della-crisi-e-dellinsolvenza-incertezze-interpretative-nelle-procedure-minori/
CATEGORIES:Eventi FPC
END:VEVENT
BEGIN:VEVENT
DTSTART;TZID=Europe/Rome:20240323T090000
DTEND;TZID=Europe/Rome:20240323T193000
DTSTAMP:20260423T005824
CREATED:20240729T101300Z
LAST-MODIFIED:20241119T164715Z
UID:40377-1711184400-1711222200@odcec.ct.it
SUMMARY:INTELLIGENZA ARTIFICIALE: RISCHI\, OPPORTUNITA' E CRITICITA'
DESCRIPTION:
URL:https://odcec.ct.it/dettaglio-evento/intelligenza-artificiale-rischi-opportunita-e-criticita/
CATEGORIES:Eventi FPC
END:VEVENT
BEGIN:VEVENT
DTSTART;TZID=Europe/Rome:20240329T090000
DTEND;TZID=Europe/Rome:20240329T193000
DTSTAMP:20260423T005824
CREATED:20240729T101300Z
LAST-MODIFIED:20241119T164715Z
UID:40378-1711702800-1711740600@odcec.ct.it
SUMMARY:Sicilitudine ed Europa Unita. Il Ponte dello Stretto di Messina. Istituzione dell'Osservatorio Permanente delle Infrastrutture in Sicilia
DESCRIPTION:
URL:https://odcec.ct.it/dettaglio-evento/sicilitudine-ed-europa-unita-il-ponte-dello-stretto-di-messina-istituzione-dellosservatorio-permanente-delle-infrastrutture-in-sicilia/
CATEGORIES:Eventi FPC
END:VEVENT
BEGIN:VEVENT
DTSTART;TZID=Europe/Rome:20240416T150000
DTEND;TZID=Europe/Rome:20240416T190000
DTSTAMP:20260423T005824
CREATED:20240729T101300Z
LAST-MODIFIED:20241119T164715Z
UID:40379-1713279600-1713294000@odcec.ct.it
SUMMARY:La redazione del bilancio d'esercizio 2023 e i Principi contabili nazionali OIC principali novità e aspetti rilevanti
DESCRIPTION:
URL:https://odcec.ct.it/dettaglio-evento/la-redazione-del-bilancio-desercizio-2023-e-i-principi-contabili-nazionali-oic-principali-novit-e-aspetti-rilevanti/
CATEGORIES:Eventi FPC
END:VEVENT
BEGIN:VEVENT
DTSTART;TZID=Europe/Rome:20240417T153000
DTEND;TZID=Europe/Rome:20240417T183000
DTSTAMP:20260423T005824
CREATED:20240729T101300Z
LAST-MODIFIED:20241119T164715Z
UID:40380-1713367800-1713378600@odcec.ct.it
SUMMARY:IL CONSIGLIO INCONTRA GLI ISCRITTI
DESCRIPTION:
URL:https://odcec.ct.it/dettaglio-evento/il-consiglio-incontra-gli-iscritti/
CATEGORIES:Eventi FPC
END:VEVENT
BEGIN:VEVENT
DTSTART;TZID=Europe/Rome:20240419T090000
DTEND;TZID=Europe/Rome:20240419T130000
DTSTAMP:20260423T005824
CREATED:20240729T101300Z
LAST-MODIFIED:20241119T164715Z
UID:40381-1713517200-1713531600@odcec.ct.it
SUMMARY:Enti del Terzo Settore: novità in materia IVA e IMU e lo schema del Rendiconto per cassa
DESCRIPTION:
URL:https://odcec.ct.it/dettaglio-evento/enti-del-terzo-settore-novit-in-materia-iva-e-imu-e-lo-schema-del-rendiconto-per-cassa/
CATEGORIES:Eventi FPC
END:VEVENT
BEGIN:VEVENT
DTSTART;TZID=Europe/Rome:20240513T153000
DTEND;TZID=Europe/Rome:20240513T193000
DTSTAMP:20260423T005824
CREATED:20240729T101300Z
LAST-MODIFIED:20241119T164715Z
UID:40382-1715614200-1715628600@odcec.ct.it
SUMMARY:I DECRETI ATTUATIVI DELLA RIFORMA TRIBUTARIA - Luci e ombre per professionisti ed imprese
DESCRIPTION:
URL:https://odcec.ct.it/dettaglio-evento/i-decreti-attuativi-della-riforma-tributaria-luci-e-ombre-per-professionisti-ed-imprese/
CATEGORIES:Eventi FPC
END:VEVENT
BEGIN:VEVENT
DTSTART;TZID=Europe/Rome:20240516T100000
DTEND;TZID=Europe/Rome:20240516T130000
DTSTAMP:20260423T005824
CREATED:20240729T101300Z
LAST-MODIFIED:20241119T164715Z
UID:40383-1715853600-1715864400@odcec.ct.it
SUMMARY:L'EVOLUZIONE DELLO STUDIO PROFESSIONALE: COME DIFENDERSI DALLA CONCORRENZA
DESCRIPTION:
URL:https://odcec.ct.it/dettaglio-evento/levoluzione-dello-studio-professionale-come-difendersi-dalla-concorrenza/
CATEGORIES:Eventi FPC
END:VEVENT
BEGIN:VEVENT
DTSTART;TZID=Europe/Rome:20240516T150000
DTEND;TZID=Europe/Rome:20240516T180000
DTSTAMP:20260423T005824
CREATED:20240729T101300Z
LAST-MODIFIED:20241119T164715Z
UID:40384-1715871600-1715882400@odcec.ct.it
SUMMARY:COMUNICAZIONE\, CONFLITTO E ASCOLTO: COME AFFRONTARLI AL MEGLIO NELLA GESTIONE DELLA PROFESSIONE
DESCRIPTION:
URL:https://odcec.ct.it/dettaglio-evento/comunicazione-conflitto-e-ascolto-come-affrontarli-al-meglio-nella-gestione-della-professione/
CATEGORIES:Eventi FPC
END:VEVENT
BEGIN:VEVENT
DTSTART;TZID=Europe/Rome:20240517T090000
DTEND;TZID=Europe/Rome:20240517T130000
DTSTAMP:20260423T005824
CREATED:20240729T101301Z
LAST-MODIFIED:20241119T164715Z
UID:40385-1715936400-1715950800@odcec.ct.it
SUMMARY:La continuità aziendale e gli adeguati assetti organizzativi\, amministrativi e contabili
DESCRIPTION:
URL:https://odcec.ct.it/dettaglio-evento/la-continuit-aziendale-e-gli-adeguati-assetti-organizzativi-amministrativi-e-contabili/
CATEGORIES:Eventi FPC
END:VEVENT
BEGIN:VEVENT
DTSTART;TZID=Europe/Rome:20240517T150000
DTEND;TZID=Europe/Rome:20240517T180000
DTSTAMP:20260423T005824
CREATED:20240729T101301Z
LAST-MODIFIED:20241119T164715Z
UID:40386-1715958000-1715968800@odcec.ct.it
SUMMARY:COMUNICAZIONE\, CONFLITTO E ASCOLTO: COME AFFRONTARLI AL MEGLIO NELLA GESTIONE DELLA PROFESSIONE
DESCRIPTION:
URL:https://odcec.ct.it/dettaglio-evento/comunicazione-conflitto-e-ascolto-come-affrontarli-al-meglio-nella-gestione-della-professione/
CATEGORIES:Eventi FPC
END:VEVENT
BEGIN:VEVENT
DTSTART;TZID=Europe/Rome:20240523T150000
DTEND;TZID=Europe/Rome:20240523T180000
DTSTAMP:20260423T005824
CREATED:20240729T101301Z
LAST-MODIFIED:20241119T164715Z
UID:40387-1716476400-1716487200@odcec.ct.it
SUMMARY:COMUNICAZIONE\, CONFLITTO E ASCOLTO: COME AFFRONTARLI AL MEGLIO NELLA GESTIONE DELLA PROFESSIONE
DESCRIPTION:
URL:https://odcec.ct.it/dettaglio-evento/comunicazione-conflitto-e-ascolto-come-affrontarli-al-meglio-nella-gestione-della-professione/
CATEGORIES:Eventi FPC
END:VEVENT
BEGIN:VEVENT
DTSTART;TZID=Europe/Rome:20240524T150000
DTEND;TZID=Europe/Rome:20240524T190000
DTSTAMP:20260423T005824
CREATED:20240729T101301Z
LAST-MODIFIED:20241119T164715Z
UID:40388-1716562800-1716577200@odcec.ct.it
SUMMARY:COMUNICAZIONE\, CONFLITTO E ASCOLTO: COME AFFRONTARLI AL MEGLIO NELLA GESTIONE DELLA PROFESSIONE
DESCRIPTION:
URL:https://odcec.ct.it/dettaglio-evento/comunicazione-conflitto-e-ascolto-come-affrontarli-al-meglio-nella-gestione-della-professione/
CATEGORIES:Eventi FPC
END:VEVENT
BEGIN:VEVENT
DTSTART;TZID=Europe/Rome:20240524T160000
DTEND;TZID=Europe/Rome:20240524T190000
DTSTAMP:20260423T005824
CREATED:20240729T101301Z
LAST-MODIFIED:20241119T164715Z
UID:40389-1716566400-1716577200@odcec.ct.it
SUMMARY:ORGANI DELLA LIQUIDAZIONE GIUDIZIALE E REATI CONCORSUALI
DESCRIPTION:
URL:https://odcec.ct.it/dettaglio-evento/organi-della-liquidazione-giudiziale-e-reati-concorsuali/
CATEGORIES:Eventi FPC
END:VEVENT
BEGIN:VEVENT
DTSTART;TZID=Europe/Rome:20240524T160000
DTEND;TZID=Europe/Rome:20240524T190000
DTSTAMP:20260423T005824
CREATED:20240729T101301Z
LAST-MODIFIED:20241119T164715Z
UID:40390-1716566400-1716577200@odcec.ct.it
SUMMARY:CRISI DI IMPRESA: Presupposti\, strumenti e soluzioni
DESCRIPTION:
URL:https://odcec.ct.it/dettaglio-evento/crisi-di-impresa-presupposti-strumenti-e-soluzioni/
CATEGORIES:Eventi FPC
END:VEVENT
BEGIN:VEVENT
DTSTART;TZID=Europe/Rome:20240525T093000
DTEND;TZID=Europe/Rome:20240525T123000
DTSTAMP:20260423T005824
CREATED:20240729T101301Z
LAST-MODIFIED:20241119T164715Z
UID:40391-1716629400-1716640200@odcec.ct.it
SUMMARY:ORGANI DELLA LIQUIDAZIONE GIUDIZIALE E REATI CONCORSUALI
DESCRIPTION:
URL:https://odcec.ct.it/dettaglio-evento/organi-della-liquidazione-giudiziale-e-reati-concorsuali/
CATEGORIES:Eventi FPC
END:VEVENT
BEGIN:VEVENT
DTSTART;TZID=Europe/Rome:20240531T090000
DTEND;TZID=Europe/Rome:20240531T130000
DTSTAMP:20260423T005824
CREATED:20240729T101301Z
LAST-MODIFIED:20241119T164715Z
UID:40392-1717146000-1717160400@odcec.ct.it
SUMMARY:IL PIANO NAZIONALE TRANSIZIONE 5.0\, LA ZES UNICA\, DECRETO COESIONE.OPPORTUNITA' PER LO SVILUPPO DEL MEZZOGIORNO
DESCRIPTION:
URL:https://odcec.ct.it/dettaglio-evento/il-piano-nazionale-transizione-50-la-zes-unica-decreto-coesioneopportunita-per-lo-sviluppo-del-mezzogiorno/
CATEGORIES:Eventi FPC
END:VEVENT
BEGIN:VEVENT
DTSTART;TZID=Europe/Rome:20240605T150000
DTEND;TZID=Europe/Rome:20240605T180000
DTSTAMP:20260423T005824
CREATED:20240729T101301Z
LAST-MODIFIED:20241119T164715Z
UID:40393-1717599600-1717610400@odcec.ct.it
SUMMARY:IL FUTURO DEL COMMERCIALISTA: CONSULENTE AZIENDALE INNOVATIVO
DESCRIPTION:
URL:https://odcec.ct.it/dettaglio-evento/il-futuro-del-commercialista-consulente-aziendale-innovativo/
CATEGORIES:Eventi FPC
END:VEVENT
BEGIN:VEVENT
DTSTART;TZID=Europe/Rome:20240610T150000
DTEND;TZID=Europe/Rome:20240610T190000
DTSTAMP:20260423T005824
CREATED:20240729T101301Z
LAST-MODIFIED:20241119T164715Z
UID:40394-1718031600-1718046000@odcec.ct.it
SUMMARY:Le principali novità per la prevenzione ed il contrasto al lavoro irregolare introdotte dal DL 19/2024
DESCRIPTION:
URL:https://odcec.ct.it/dettaglio-evento/le-principali-novit-per-la-prevenzione-ed-il-contrasto-al-lavoro-irregolare-introdotte-dal-dl-192024/
CATEGORIES:Eventi FPC
END:VEVENT
BEGIN:VEVENT
DTSTART;TZID=Europe/Rome:20240613T093000
DTEND;TZID=Europe/Rome:20240613T130000
DTSTAMP:20260423T005824
CREATED:20240729T101301Z
LAST-MODIFIED:20241119T164715Z
UID:40395-1718271000-1718283600@odcec.ct.it
SUMMARY:I CREDITI D'IMPOSTA TRA VECCHIE E NUOVE AGEVOLAZIONI
DESCRIPTION:
URL:https://odcec.ct.it/dettaglio-evento/i-crediti-dimposta-tra-vecchie-e-nuove-agevolazioni/
CATEGORIES:Eventi FPC
END:VEVENT
BEGIN:VEVENT
DTSTART;TZID=Europe/Rome:20240618T090000
DTEND;TZID=Europe/Rome:20240618T130000
DTSTAMP:20260423T005824
CREATED:20240729T101301Z
LAST-MODIFIED:20241119T164715Z
UID:40396-1718701200-1718715600@odcec.ct.it
SUMMARY:LE PROSSIME SCADENZE NEL MONDO SPORTIVO
DESCRIPTION:
URL:https://odcec.ct.it/dettaglio-evento/le-prossime-scadenze-nel-mondo-sportivo/
CATEGORIES:Eventi FPC
END:VEVENT
BEGIN:VEVENT
DTSTART;TZID=Europe/Rome:20240618T153000
DTEND;TZID=Europe/Rome:20240618T183000
DTSTAMP:20260423T005824
CREATED:20240729T101301Z
LAST-MODIFIED:20241119T164716Z
UID:40397-1718724600-1718735400@odcec.ct.it
SUMMARY:CONCORDATO PREVENTIVO BIENNALE E RIFLESSI DELLA DICHIARAZIONE DEI REDDITI 2024
DESCRIPTION:
URL:https://odcec.ct.it/dettaglio-evento/concordato-preventivo-biennale-e-riflessi-della-dichiarazione-dei-redditi-2024/
CATEGORIES:Eventi FPC
END:VEVENT
BEGIN:VEVENT
DTSTART;TZID=Europe/Rome:20240625T160000
DTEND;TZID=Europe/Rome:20240625T200000
DTSTAMP:20260423T005824
CREATED:20240729T101301Z
LAST-MODIFIED:20241119T164716Z
UID:40398-1719331200-1719345600@odcec.ct.it
SUMMARY:ADEGUATI ASSETTI ORGANIZZATIVI\, AMMINISTRATIVI E CONTABILI
DESCRIPTION:
URL:https://odcec.ct.it/dettaglio-evento/adeguati-assetti-organizzativi-amministrativi-e-contabili/
CATEGORIES:Eventi FPC
END:VEVENT
BEGIN:VEVENT
DTSTART;TZID=Europe/Rome:20240626T083000
DTEND;TZID=Europe/Rome:20240626T133000
DTSTAMP:20260423T005824
CREATED:20240729T101301Z
LAST-MODIFIED:20241119T164716Z
UID:40399-1719390600-1719408600@odcec.ct.it
SUMMARY:INTELLIGENZA ARTIFICIALE E TECNOLOGIE DIGITALI A SUPPORTO DELLA SALUTE E SICUREZZA SUL LAVORO
DESCRIPTION:
URL:https://odcec.ct.it/dettaglio-evento/intelligenza-artificiale-e-tecnologie-digitali-a-supporto-della-salute-e-sicurezza-sul-lavoro/
CATEGORIES:Eventi FPC
END:VEVENT
BEGIN:VEVENT
DTSTART;TZID=Europe/Rome:20240626T150000
DTEND;TZID=Europe/Rome:20240626T190000
DTSTAMP:20260423T005824
CREATED:20240729T101301Z
LAST-MODIFIED:20241119T164716Z
UID:40400-1719414000-1719428400@odcec.ct.it
SUMMARY:Nuovo approccio per comprendere gli indicatori chiave della redditività aziendale con l'ausilio dell'intelligenza artificiale
DESCRIPTION:
URL:https://odcec.ct.it/dettaglio-evento/nuovo-approccio-per-comprendere-gli-indicatori-chiave-della-redditivit-aziendale-con-lausilio-dellintelligenza-artificiale/
CATEGORIES:Eventi FPC
END:VEVENT
BEGIN:VEVENT
DTSTART;TZID=Europe/Rome:20240726T150000
DTEND;TZID=Europe/Rome:20240726T170000
DTSTAMP:20260423T005824
CREATED:20240729T101301Z
LAST-MODIFIED:20241119T164716Z
UID:40401-1722006000-1722013200@odcec.ct.it
SUMMARY:IL DISSESTO FINANZIARIO
DESCRIPTION:
URL:https://odcec.ct.it/dettaglio-evento/il-dissesto-finanziario/
CATEGORIES:Eventi FPC
END:VEVENT
BEGIN:VEVENT
DTSTART;TZID=Europe/Rome:20240920T090000
DTEND;TZID=Europe/Rome:20240920T173000
DTSTAMP:20260423T005824
CREATED:20241015T230301Z
LAST-MODIFIED:20241119T164716Z
UID:114908-1726822800-1726853400@odcec.ct.it
SUMMARY:Pianificazione patrimoniale familiare e passaggio generazionale
DESCRIPTION:
URL:https://odcec.ct.it/dettaglio-evento/pianificazione-patrimoniale-familiare-e-passaggio-generazionale/
CATEGORIES:Eventi FPC
END:VEVENT
END:VCALENDAR