BEGIN:VCALENDAR
VERSION:2.0
PRODID:-//ODCEC Catania - ECPv6.8.1//NONSGML v1.0//EN
CALSCALE:GREGORIAN
METHOD:PUBLISH
X-ORIGINAL-URL:https://odcec.ct.it
X-WR-CALDESC:Eventi per ODCEC Catania
REFRESH-INTERVAL;VALUE=DURATION:PT1H
X-Robots-Tag:noindex
X-PUBLISHED-TTL:PT1H
BEGIN:VTIMEZONE
TZID:Europe/Rome
BEGIN:DAYLIGHT
TZOFFSETFROM:+0100
TZOFFSETTO:+0200
TZNAME:CEST
DTSTART:20230326T010000
END:DAYLIGHT
BEGIN:STANDARD
TZOFFSETFROM:+0200
TZOFFSETTO:+0100
TZNAME:CET
DTSTART:20231029T010000
END:STANDARD
BEGIN:DAYLIGHT
TZOFFSETFROM:+0100
TZOFFSETTO:+0200
TZNAME:CEST
DTSTART:20240331T010000
END:DAYLIGHT
BEGIN:STANDARD
TZOFFSETFROM:+0200
TZOFFSETTO:+0100
TZNAME:CET
DTSTART:20241027T010000
END:STANDARD
END:VTIMEZONE
BEGIN:VEVENT
DTSTART;TZID=Europe/Rome:20231127T153000
DTEND;TZID=Europe/Rome:20231127T193000
DTSTAMP:20260423T005830
CREATED:20240729T101259Z
LAST-MODIFIED:20241119T164714Z
UID:40350-1701099000-1701113400@odcec.ct.it
SUMMARY:CULTURA IMPRENDITORIALE AI TEMPI DEL CODICE DELLA CRISI
DESCRIPTION:
URL:https://odcec.ct.it/dettaglio-evento/cultura-imprenditoriale-ai-tempi-del-codice-della-crisi/
CATEGORIES:Eventi FPC
END:VEVENT
BEGIN:VEVENT
DTSTART;TZID=Europe/Rome:20231201T153000
DTEND;TZID=Europe/Rome:20231201T193000
DTSTAMP:20260423T005830
CREATED:20240729T101259Z
LAST-MODIFIED:20241119T164714Z
UID:40351-1701444600-1701459000@odcec.ct.it
SUMMARY:Corso Revisione Legale 2023
DESCRIPTION:
URL:https://odcec.ct.it/dettaglio-evento/corso-revisione-legale-2023/
CATEGORIES:Eventi FPC
END:VEVENT
BEGIN:VEVENT
DTSTART;TZID=Europe/Rome:20231206T140000
DTEND;TZID=Europe/Rome:20231206T190000
DTSTAMP:20260423T005830
CREATED:20240729T101259Z
LAST-MODIFIED:20241119T164714Z
UID:40352-1701871200-1701889200@odcec.ct.it
SUMMARY:Corso di aggiornamento per Revisori Legali - Anno 2023
DESCRIPTION:
URL:https://odcec.ct.it/dettaglio-evento/corso-di-aggiornamento-per-revisori-legali-anno-2023/
CATEGORIES:Eventi FPC
END:VEVENT
BEGIN:VEVENT
DTSTART;TZID=Europe/Rome:20231207T090000
DTEND;TZID=Europe/Rome:20231207T140000
DTSTAMP:20260423T005830
CREATED:20240729T101259Z
LAST-MODIFIED:20241119T164714Z
UID:40353-1701939600-1701957600@odcec.ct.it
SUMMARY:Corso di aggiornamento per Revisori Legali - Anno 2023
DESCRIPTION:
URL:https://odcec.ct.it/dettaglio-evento/corso-di-aggiornamento-per-revisori-legali-anno-2023/
CATEGORIES:Eventi FPC
END:VEVENT
BEGIN:VEVENT
DTSTART;TZID=Europe/Rome:20231213T153000
DTEND;TZID=Europe/Rome:20231213T193000
DTSTAMP:20260423T005830
CREATED:20240729T101259Z
LAST-MODIFIED:20241119T164714Z
UID:40354-1702481400-1702495800@odcec.ct.it
SUMMARY:ONERE DELLA PROVA NEL PROCESSO TRIBUTARIO
DESCRIPTION:
URL:https://odcec.ct.it/dettaglio-evento/onere-della-prova-nel-processo-tributario/
CATEGORIES:Eventi FPC
END:VEVENT
BEGIN:VEVENT
DTSTART;TZID=Europe/Rome:20231214T140000
DTEND;TZID=Europe/Rome:20231214T190000
DTSTAMP:20260423T005830
CREATED:20240729T101259Z
LAST-MODIFIED:20241119T164714Z
UID:40355-1702562400-1702580400@odcec.ct.it
SUMMARY:Corso di aggiornamento per Revisori Legali - Anno 2023
DESCRIPTION:
URL:https://odcec.ct.it/dettaglio-evento/corso-di-aggiornamento-per-revisori-legali-anno-2023/
CATEGORIES:Eventi FPC
END:VEVENT
BEGIN:VEVENT
DTSTART;TZID=Europe/Rome:20231215T090000
DTEND;TZID=Europe/Rome:20231215T140000
DTSTAMP:20260423T005830
CREATED:20240729T101259Z
LAST-MODIFIED:20241119T164714Z
UID:40356-1702630800-1702648800@odcec.ct.it
SUMMARY:Corso di aggiornamento per Revisori Legali - Anno 2023
DESCRIPTION:
URL:https://odcec.ct.it/dettaglio-evento/corso-di-aggiornamento-per-revisori-legali-anno-2023/
CATEGORIES:Eventi FPC
END:VEVENT
BEGIN:VEVENT
DTSTART;TZID=Europe/Rome:20231215T090000
DTEND;TZID=Europe/Rome:20231215T180000
DTSTAMP:20260423T005830
CREATED:20240729T101259Z
LAST-MODIFIED:20241119T164714Z
UID:40357-1702630800-1702663200@odcec.ct.it
SUMMARY:LA POLITICA CRIMINALE E L'ECONOMIA LEGALE NELL'ATTUALE QUADRO ECONOMICO: EFFICACIA ED EFFICIENZA DELLE MISURE REALI
DESCRIPTION:
URL:https://odcec.ct.it/dettaglio-evento/la-politica-criminale-e-leconomia-legale-nellattuale-quadro-economico-efficacia-ed-efficienza-delle-misure-reali/
CATEGORIES:Eventi FPC
END:VEVENT
BEGIN:VEVENT
DTSTART;TZID=Europe/Rome:20231215T143000
DTEND;TZID=Europe/Rome:20231215T183000
DTSTAMP:20260423T005830
CREATED:20240729T101259Z
LAST-MODIFIED:20241119T164714Z
UID:40358-1702650600-1702665000@odcec.ct.it
SUMMARY:AGGIORNAMENTI IN TEMA DI SICUREZZA E SALUTE SUL LAVORO: QUALI NOVITA' PER IL 2024?
DESCRIPTION:
URL:https://odcec.ct.it/dettaglio-evento/aggiornamenti-in-tema-di-sicurezza-e-salute-sul-lavoro-quali-novita-per-il-2024/
CATEGORIES:Eventi FPC
END:VEVENT
BEGIN:VEVENT
DTSTART;TZID=Europe/Rome:20231219T083000
DTEND;TZID=Europe/Rome:20231219T193000
DTSTAMP:20260423T005830
CREATED:20240729T101259Z
LAST-MODIFIED:20241119T164714Z
UID:40359-1702974600-1703014200@odcec.ct.it
SUMMARY:ENTI LOCALI: I controlli e le verifiche dell’Organo di Revisione nel corso della gestione finanziaria e sul personale - Focus su governance dei fenomeni patologici
DESCRIPTION:
URL:https://odcec.ct.it/dettaglio-evento/enti-locali-i-controlli-e-le-verifiche-dellorgano-di-revisione-nel-corso-della-gestione-finanziaria-e-sul-personale-focus-su-governance-dei-fenomeni-patologici/
CATEGORIES:Eventi FPC
END:VEVENT
BEGIN:VEVENT
DTSTART;TZID=Europe/Rome:20240119T100000
DTEND;TZID=Europe/Rome:20240119T130000
DTSTAMP:20260423T005830
CREATED:20240729T101259Z
LAST-MODIFIED:20241119T164714Z
UID:40360-1705658400-1705669200@odcec.ct.it
SUMMARY:Fare Impresa in Sicilia - FAInSicilia
DESCRIPTION:
URL:https://odcec.ct.it/dettaglio-evento/fare-impresa-in-sicilia-fainsicilia/
CATEGORIES:Eventi FPC
END:VEVENT
BEGIN:VEVENT
DTSTART;TZID=Europe/Rome:20240124T150000
DTEND;TZID=Europe/Rome:20240124T190000
DTSTAMP:20260423T005830
CREATED:20240729T101259Z
LAST-MODIFIED:20241119T164714Z
UID:40361-1706108400-1706122800@odcec.ct.it
SUMMARY:LEGGE DI BILANCIO 2024 E I DECRETI COLLEGATI
DESCRIPTION:
URL:https://odcec.ct.it/dettaglio-evento/legge-di-bilancio-2024-e-i-decreti-collegati/
CATEGORIES:Eventi FPC
END:VEVENT
BEGIN:VEVENT
DTSTART;TZID=Europe/Rome:20240201T180000
DTEND;TZID=Europe/Rome:20240201T200000
DTSTAMP:20260423T005830
CREATED:20240729T101259Z
LAST-MODIFIED:20241119T164714Z
UID:40362-1706810400-1706817600@odcec.ct.it
SUMMARY:LA FINANZA ALTERNATIVA
DESCRIPTION:
URL:https://odcec.ct.it/dettaglio-evento/la-finanza-alternativa/
CATEGORIES:Eventi FPC
END:VEVENT
BEGIN:VEVENT
DTSTART;TZID=Europe/Rome:20240207T083000
DTEND;TZID=Europe/Rome:20240207T123000
DTSTAMP:20260423T005830
CREATED:20240729T101259Z
LAST-MODIFIED:20241119T164715Z
UID:40363-1707294600-1707309000@odcec.ct.it
SUMMARY:Autoliquidazione INAIL 2023/2024\, Iscrizione e variazione alle gestioni INPS\, Durc di congruità e Vigilanza ispettiva
DESCRIPTION:
URL:https://odcec.ct.it/dettaglio-evento/autoliquidazione-inail-20232024-iscrizione-e-variazione-alle-gestioni-inps-durc-di-congruit-e-vigilanza-ispettiva/
CATEGORIES:Eventi FPC
END:VEVENT
BEGIN:VEVENT
DTSTART;TZID=Europe/Rome:20240208T150000
DTEND;TZID=Europe/Rome:20240208T190000
DTSTAMP:20260423T005830
CREATED:20240729T101300Z
LAST-MODIFIED:20241119T164715Z
UID:40364-1707404400-1707418800@odcec.ct.it
SUMMARY:LE OPPORTUNITA' ATTUALI DELL'INTELLIGENZA ARTIFICIALE GENERATIVA: COME I COMMERCIALISTI POSSONO AIUTARE LE IMPRESE AD INTRODURLA ATTIVAMENTE
DESCRIPTION:
URL:https://odcec.ct.it/dettaglio-evento/le-opportunita-attuali-dellintelligenza-artificiale-generativa-come-i-commercialisti-possono-aiutare-le-imprese-ad-introdurla-attivamente/
CATEGORIES:Eventi FPC
END:VEVENT
BEGIN:VEVENT
DTSTART;TZID=Europe/Rome:20240213T150000
DTEND;TZID=Europe/Rome:20240213T180000
DTSTAMP:20260423T005830
CREATED:20240729T101300Z
LAST-MODIFIED:20241119T164715Z
UID:40365-1707836400-1707847200@odcec.ct.it
SUMMARY:Gli adempimenti antiriciclaggio. La novità della sospensione dell'operatività del registro dei Titolari Effettivi.
DESCRIPTION:
URL:https://odcec.ct.it/dettaglio-evento/gli-adempimenti-antiriciclaggio-la-novit-della-sospensione-delloperativit-del-registro-dei-titolari-effettivi/
CATEGORIES:Eventi FPC
END:VEVENT
BEGIN:VEVENT
DTSTART;TZID=Europe/Rome:20240214T153000
DTEND;TZID=Europe/Rome:20240214T193000
DTSTAMP:20260423T005830
CREATED:20240729T101300Z
LAST-MODIFIED:20241119T164715Z
UID:40366-1707924600-1707939000@odcec.ct.it
SUMMARY:LE NOVITA' FISCALI 2024 - Legge di bilancio e decreti attuativi della riforma
DESCRIPTION:
URL:https://odcec.ct.it/dettaglio-evento/le-novita-fiscali-2024-legge-di-bilancio-e-decreti-attuativi-della-riforma/
CATEGORIES:Eventi FPC
END:VEVENT
BEGIN:VEVENT
DTSTART;TZID=Europe/Rome:20240221T093000
DTEND;TZID=Europe/Rome:20240221T133000
DTSTAMP:20260423T005830
CREATED:20240729T101300Z
LAST-MODIFIED:20241119T164715Z
UID:40367-1708507800-1708522200@odcec.ct.it
SUMMARY:WELFARE AZIENDALE
DESCRIPTION:
URL:https://odcec.ct.it/dettaglio-evento/welfare-aziendale/
CATEGORIES:Eventi FPC
END:VEVENT
BEGIN:VEVENT
DTSTART;TZID=Europe/Rome:20240227T090000
DTEND;TZID=Europe/Rome:20240227T130000
DTSTAMP:20260423T005830
CREATED:20240729T101300Z
LAST-MODIFIED:20241119T164715Z
UID:40368-1709024400-1709038800@odcec.ct.it
SUMMARY:BILANCIO DI PREVISIONE 2024/2026: LE DISPOSIZIONI RELATIVE AL PERSONALE ED I CONTROLLI DELL'ORGANO DI REVISIONE
DESCRIPTION:
URL:https://odcec.ct.it/dettaglio-evento/bilancio-di-previsione-20242026-le-disposizioni-relative-al-personale-ed-i-controlli-dellorgano-di-revisione/
CATEGORIES:Eventi FPC
END:VEVENT
BEGIN:VEVENT
DTSTART;TZID=Europe/Rome:20240227T150000
DTEND;TZID=Europe/Rome:20240227T180000
DTSTAMP:20260423T005830
CREATED:20240729T101300Z
LAST-MODIFIED:20241119T164715Z
UID:40369-1709046000-1709056800@odcec.ct.it
SUMMARY:BILANCIO DI PREVISIONE 2024/2026: LE DISPOSIZIONI RELATIVE AL PERSONALE ED I CONTROLLI DELL'ORGANO DI REVISIONE
DESCRIPTION:
URL:https://odcec.ct.it/dettaglio-evento/bilancio-di-previsione-20242026-le-disposizioni-relative-al-personale-ed-i-controlli-dellorgano-di-revisione/
CATEGORIES:Eventi FPC
END:VEVENT
BEGIN:VEVENT
DTSTART;TZID=Europe/Rome:20240308T090000
DTEND;TZID=Europe/Rome:20240308T130000
DTSTAMP:20260423T005830
CREATED:20240729T101300Z
LAST-MODIFIED:20241119T164715Z
UID:40370-1709888400-1709902800@odcec.ct.it
SUMMARY:NOVITA' IVA 2024
DESCRIPTION:
URL:https://odcec.ct.it/dettaglio-evento/novita-iva-2024/
CATEGORIES:Eventi FPC
END:VEVENT
BEGIN:VEVENT
DTSTART;TZID=Europe/Rome:20240318T090000
DTEND;TZID=Europe/Rome:20240318T180000
DTSTAMP:20260423T005830
CREATED:20240729T101300Z
LAST-MODIFIED:20241119T164715Z
UID:40371-1710752400-1710784800@odcec.ct.it
SUMMARY:IL RUOLO DEL PROFESSIONISTA NELLA PREVENZIONE E NEL CONTRASTO AL RICICLAGGIO
DESCRIPTION:
URL:https://odcec.ct.it/dettaglio-evento/il-ruolo-del-professionista-nella-prevenzione-e-nel-contrasto-al-riciclaggio/
CATEGORIES:Eventi FPC
END:VEVENT
BEGIN:VEVENT
DTSTART;TZID=Europe/Rome:20240321T150000
DTEND;TZID=Europe/Rome:20240321T190000
DTSTAMP:20260423T005830
CREATED:20240729T101300Z
LAST-MODIFIED:20241119T164715Z
UID:40372-1711033200-1711047600@odcec.ct.it
SUMMARY:STRATEGIE ESG PER LE IMPRESE
DESCRIPTION:
URL:https://odcec.ct.it/dettaglio-evento/strategie-esg-per-le-imprese/
CATEGORIES:Eventi FPC
END:VEVENT
BEGIN:VEVENT
DTSTART;TZID=Europe/Rome:20240322T090000
DTEND;TZID=Europe/Rome:20240322T130000
DTSTAMP:20260423T005830
CREATED:20240729T101300Z
LAST-MODIFIED:20241119T164715Z
UID:40373-1711098000-1711112400@odcec.ct.it
SUMMARY:Sostenibilità in Movimento: Impatti della Formazione all'interno di AMTS e utilizzo del Fondo Interprofessionale Fonservizi
DESCRIPTION:
URL:https://odcec.ct.it/dettaglio-evento/sostenibilit-in-movimento-impatti-della-formazione-allinterno-di-amts-e-utilizzo-del-fondo-interprofessionale-fonservizi/
CATEGORIES:Eventi FPC
END:VEVENT
BEGIN:VEVENT
DTSTART;TZID=Europe/Rome:20240322T090000
DTEND;TZID=Europe/Rome:20240322T130000
DTSTAMP:20260423T005830
CREATED:20240729T101300Z
LAST-MODIFIED:20241119T164715Z
UID:40374-1711098000-1711112400@odcec.ct.it
SUMMARY:PRINCIPI E RISULTATI NUOVO CODICE APPALTI: CCNL\, CLAUSOLA SOCIALE E REVISIONE PREZZI NEI CONTRATTI PUBBLICI
DESCRIPTION:
URL:https://odcec.ct.it/dettaglio-evento/principi-e-risultati-nuovo-codice-appalti-ccnl-clausola-sociale-e-revisione-prezzi-nei-contratti-pubblici/
CATEGORIES:Eventi FPC
END:VEVENT
BEGIN:VEVENT
DTSTART;TZID=Europe/Rome:20240322T090000
DTEND;TZID=Europe/Rome:20240322T183000
DTSTAMP:20260423T005830
CREATED:20240729T101300Z
LAST-MODIFIED:20241119T164715Z
UID:40375-1711098000-1711132200@odcec.ct.it
SUMMARY:CODICE DELLA CRISI E DELL'INSOLVENZA: INCERTEZZE INTERPRETATIVE NELLE PROCEDURE MINORI
DESCRIPTION:
URL:https://odcec.ct.it/dettaglio-evento/codice-della-crisi-e-dellinsolvenza-incertezze-interpretative-nelle-procedure-minori/
CATEGORIES:Eventi FPC
END:VEVENT
BEGIN:VEVENT
DTSTART;TZID=Europe/Rome:20240323T090000
DTEND;TZID=Europe/Rome:20240323T130000
DTSTAMP:20260423T005830
CREATED:20240729T101300Z
LAST-MODIFIED:20241119T164715Z
UID:40376-1711184400-1711198800@odcec.ct.it
SUMMARY:CODICE DELLA CRISI E DELL'INSOLVENZA: INCERTEZZE INTERPRETATIVE NELLE PROCEDURE MINORI
DESCRIPTION:
URL:https://odcec.ct.it/dettaglio-evento/codice-della-crisi-e-dellinsolvenza-incertezze-interpretative-nelle-procedure-minori/
CATEGORIES:Eventi FPC
END:VEVENT
BEGIN:VEVENT
DTSTART;TZID=Europe/Rome:20240323T090000
DTEND;TZID=Europe/Rome:20240323T193000
DTSTAMP:20260423T005830
CREATED:20240729T101300Z
LAST-MODIFIED:20241119T164715Z
UID:40377-1711184400-1711222200@odcec.ct.it
SUMMARY:INTELLIGENZA ARTIFICIALE: RISCHI\, OPPORTUNITA' E CRITICITA'
DESCRIPTION:
URL:https://odcec.ct.it/dettaglio-evento/intelligenza-artificiale-rischi-opportunita-e-criticita/
CATEGORIES:Eventi FPC
END:VEVENT
BEGIN:VEVENT
DTSTART;TZID=Europe/Rome:20240329T090000
DTEND;TZID=Europe/Rome:20240329T193000
DTSTAMP:20260423T005830
CREATED:20240729T101300Z
LAST-MODIFIED:20241119T164715Z
UID:40378-1711702800-1711740600@odcec.ct.it
SUMMARY:Sicilitudine ed Europa Unita. Il Ponte dello Stretto di Messina. Istituzione dell'Osservatorio Permanente delle Infrastrutture in Sicilia
DESCRIPTION:
URL:https://odcec.ct.it/dettaglio-evento/sicilitudine-ed-europa-unita-il-ponte-dello-stretto-di-messina-istituzione-dellosservatorio-permanente-delle-infrastrutture-in-sicilia/
CATEGORIES:Eventi FPC
END:VEVENT
BEGIN:VEVENT
DTSTART;TZID=Europe/Rome:20240416T150000
DTEND;TZID=Europe/Rome:20240416T190000
DTSTAMP:20260423T005830
CREATED:20240729T101300Z
LAST-MODIFIED:20241119T164715Z
UID:40379-1713279600-1713294000@odcec.ct.it
SUMMARY:La redazione del bilancio d'esercizio 2023 e i Principi contabili nazionali OIC principali novità e aspetti rilevanti
DESCRIPTION:
URL:https://odcec.ct.it/dettaglio-evento/la-redazione-del-bilancio-desercizio-2023-e-i-principi-contabili-nazionali-oic-principali-novit-e-aspetti-rilevanti/
CATEGORIES:Eventi FPC
END:VEVENT
END:VCALENDAR