BEGIN:VCALENDAR
VERSION:2.0
PRODID:-//ODCEC Catania - ECPv6.8.1//NONSGML v1.0//EN
CALSCALE:GREGORIAN
METHOD:PUBLISH
X-ORIGINAL-URL:https://odcec.ct.it
X-WR-CALDESC:Eventi per ODCEC Catania
REFRESH-INTERVAL;VALUE=DURATION:PT1H
X-Robots-Tag:noindex
X-PUBLISHED-TTL:PT1H
BEGIN:VTIMEZONE
TZID:Europe/Rome
BEGIN:DAYLIGHT
TZOFFSETFROM:+0100
TZOFFSETTO:+0200
TZNAME:CEST
DTSTART:20230326T010000
END:DAYLIGHT
BEGIN:STANDARD
TZOFFSETFROM:+0200
TZOFFSETTO:+0100
TZNAME:CET
DTSTART:20231029T010000
END:STANDARD
END:VTIMEZONE
BEGIN:VEVENT
DTSTART;TZID=Europe/Rome:20230527T090000
DTEND;TZID=Europe/Rome:20230527T130000
DTSTAMP:20260423T005938
CREATED:20240729T101256Z
LAST-MODIFIED:20241119T164713Z
UID:40301-1685178000-1685192400@odcec.ct.it
SUMMARY:CORSO DI FORMAZIONE VALIDO PER L'ISCRIZIONE NELL'ELENCO DEI PROFESSIONISTI DELEGATI ALLE OPERAZIONI DI VENDITA NELLE ESECUZIONI FORZATE EX ART. 179 TER DISP. ATT.CPC
DESCRIPTION:
URL:https://odcec.ct.it/dettaglio-evento/corso-di-formazione-valido-per-liscrizione-nellelenco-dei-professionisti-delegati-alle-operazioni-di-vendita-nelle-esecuzioni-forzate-ex-art-179-ter-disp-attcpc/
CATEGORIES:Eventi FPC
END:VEVENT
BEGIN:VEVENT
DTSTART;TZID=Europe/Rome:20230529T100000
DTEND;TZID=Europe/Rome:20230529T130000
DTSTAMP:20260423T005938
CREATED:20240729T101256Z
LAST-MODIFIED:20241119T164713Z
UID:40302-1685354400-1685365200@odcec.ct.it
SUMMARY:Le Ispezioni in materia di lavoro e sicurezza: regole\, procedure e strumenti di tutela
DESCRIPTION:
URL:https://odcec.ct.it/dettaglio-evento/le-ispezioni-in-materia-di-lavoro-e-sicurezza-regole-procedure-e-strumenti-di-tutela/
CATEGORIES:Eventi FPC
END:VEVENT
BEGIN:VEVENT
DTSTART;TZID=Europe/Rome:20230529T153000
DTEND;TZID=Europe/Rome:20230529T193000
DTSTAMP:20260423T005938
CREATED:20240729T101256Z
LAST-MODIFIED:20241119T164713Z
UID:40303-1685374200-1685388600@odcec.ct.it
SUMMARY:Esperto di monitoraggio\, rendicontazione e controllo delle risorse del PNRR.
DESCRIPTION:
URL:https://odcec.ct.it/dettaglio-evento/esperto-di-monitoraggio-rendicontazione-e-controllo-delle-risorse-del-pnrr/
CATEGORIES:Eventi FPC
END:VEVENT
BEGIN:VEVENT
DTSTART;TZID=Europe/Rome:20230531T090000
DTEND;TZID=Europe/Rome:20230531T130000
DTSTAMP:20260423T005938
CREATED:20240729T101256Z
LAST-MODIFIED:20241119T164713Z
UID:40304-1685523600-1685538000@odcec.ct.it
SUMMARY:LA FINANZA COOPERATIVA: risposta alla crisi e opportunità di crescita
DESCRIPTION:
URL:https://odcec.ct.it/dettaglio-evento/la-finanza-cooperativa-risposta-alla-crisi-e-opportunit-di-crescita/
CATEGORIES:Eventi FPC
END:VEVENT
BEGIN:VEVENT
DTSTART;TZID=Europe/Rome:20230609T090000
DTEND;TZID=Europe/Rome:20230609T190000
DTSTAMP:20260423T005938
CREATED:20240729T101257Z
LAST-MODIFIED:20241119T164713Z
UID:40305-1686301200-1686337200@odcec.ct.it
SUMMARY:CORSO DI FORMAZIONE VALIDO PER L'ISCRIZIONE NELL'ELENCO DEI PROFESSIONISTI DELEGATI ALLE OPERAZIONI DI VENDITA NELLE ESECUZIONI FORZATE EX ART. 179 TER DISP. ATT.CPC
DESCRIPTION:
URL:https://odcec.ct.it/dettaglio-evento/corso-di-formazione-valido-per-liscrizione-nellelenco-dei-professionisti-delegati-alle-operazioni-di-vendita-nelle-esecuzioni-forzate-ex-art-179-ter-disp-attcpc/
CATEGORIES:Eventi FPC
END:VEVENT
BEGIN:VEVENT
DTSTART;TZID=Europe/Rome:20230612T153000
DTEND;TZID=Europe/Rome:20230612T173000
DTSTAMP:20260423T005938
CREATED:20240729T101257Z
LAST-MODIFIED:20241119T164713Z
UID:40306-1686583800-1686591000@odcec.ct.it
SUMMARY:CRITICITA' E PECULIARITA' DELLE PROCEDURE DA SOVRAINDEBITAMENTO NEL CODICE DELLA CRISI
DESCRIPTION:
URL:https://odcec.ct.it/dettaglio-evento/criticita-e-peculiarita-delle-procedure-da-sovraindebitamento-nel-codice-della-crisi/
CATEGORIES:Eventi FPC
END:VEVENT
BEGIN:VEVENT
DTSTART;TZID=Europe/Rome:20230620T150000
DTEND;TZID=Europe/Rome:20230620T190000
DTSTAMP:20260423T005938
CREATED:20240729T101257Z
LAST-MODIFIED:20241119T164713Z
UID:40307-1687273200-1687287600@odcec.ct.it
SUMMARY:Il Mercato negli Emirati Arabi Uniti dopo Dubai Expo 2020: Dubai Hub del Mediterraneo - Opportunità per le Imprese in Sicilia
DESCRIPTION:
URL:https://odcec.ct.it/dettaglio-evento/il-mercato-negli-emirati-arabi-uniti-dopo-dubai-expo-2020-dubai-hub-del-mediterraneo-opportunit-per-le-imprese-in-sicilia/
CATEGORIES:Eventi FPC
END:VEVENT
BEGIN:VEVENT
DTSTART;TZID=Europe/Rome:20230621T093000
DTEND;TZID=Europe/Rome:20230621T123000
DTSTAMP:20260423T005938
CREATED:20240729T101257Z
LAST-MODIFIED:20241119T164713Z
UID:40308-1687339800-1687350600@odcec.ct.it
SUMMARY:Il Decreto Lavoro 48/2023: tra novità e semplificazioni
DESCRIPTION:
URL:https://odcec.ct.it/dettaglio-evento/il-decreto-lavoro-482023-tra-novit-e-semplificazioni/
CATEGORIES:Eventi FPC
END:VEVENT
BEGIN:VEVENT
DTSTART;TZID=Europe/Rome:20230623T090000
DTEND;TZID=Europe/Rome:20230623T130000
DTSTAMP:20260423T005938
CREATED:20240729T101257Z
LAST-MODIFIED:20241119T164713Z
UID:40309-1687510800-1687525200@odcec.ct.it
SUMMARY:OPPORTUNITA' PER I COMMERCIALISTI E LE IMPRESE NEL MERCATO DEICAPITALI ITALIANI ED ESTERI
DESCRIPTION:
URL:https://odcec.ct.it/dettaglio-evento/opportunita-per-i-commercialisti-e-le-imprese-nel-mercato-deicapitali-italiani-ed-esteri/
CATEGORIES:Eventi FPC
END:VEVENT
BEGIN:VEVENT
DTSTART;TZID=Europe/Rome:20230627T090000
DTEND;TZID=Europe/Rome:20230627T130000
DTSTAMP:20260423T005938
CREATED:20240729T101257Z
LAST-MODIFIED:20241119T164713Z
UID:40310-1687856400-1687870800@odcec.ct.it
SUMMARY:LA RIFORMA FISCALE: spunti di riflessione per professionisti ed imprese
DESCRIPTION:
URL:https://odcec.ct.it/dettaglio-evento/la-riforma-fiscale-spunti-di-riflessione-per-professionisti-ed-imprese/
CATEGORIES:Eventi FPC
END:VEVENT
BEGIN:VEVENT
DTSTART;TZID=Europe/Rome:20230719T090000
DTEND;TZID=Europe/Rome:20230719T130000
DTSTAMP:20260423T005938
CREATED:20240729T101257Z
LAST-MODIFIED:20241119T164713Z
UID:40311-1689757200-1689771600@odcec.ct.it
SUMMARY:NUOVI STRUMENTI DI AGEVOLAZIONE PER ARTIGIANI E PMI. Imprese e Professionisti insieme per lo sviluppo
DESCRIPTION:
URL:https://odcec.ct.it/dettaglio-evento/nuovi-strumenti-di-agevolazione-per-artigiani-e-pmi-imprese-e-professionisti-insieme-per-lo-sviluppo/
CATEGORIES:Eventi FPC
END:VEVENT
BEGIN:VEVENT
DTSTART;TZID=Europe/Rome:20230721T090000
DTEND;TZID=Europe/Rome:20230721T130000
DTSTAMP:20260423T005938
CREATED:20240729T101257Z
LAST-MODIFIED:20241119T164713Z
UID:40312-1689930000-1689944400@odcec.ct.it
SUMMARY:DEFINIZIONE AGEVOLATA DI INGIUNZIONI EACCERTAMENTI ESECUTIVI PER GLI ENTI TERRITORIALI. RIFLESSI SULLA GESTIONE DELLE ENTRATE LOCALI
DESCRIPTION:
URL:https://odcec.ct.it/dettaglio-evento/definizione-agevolata-di-ingiunzioni-eaccertamenti-esecutivi-per-gli-enti-territoriali-riflessi-sulla-gestione-delle-entrate-locali/
CATEGORIES:Eventi FPC
END:VEVENT
BEGIN:VEVENT
DTSTART;TZID=Europe/Rome:20230908T150000
DTEND;TZID=Europe/Rome:20230908T190000
DTSTAMP:20260423T005938
CREATED:20240729T101257Z
LAST-MODIFIED:20241119T164713Z
UID:40313-1694185200-1694199600@odcec.ct.it
SUMMARY:L'EVOLUZIONE DELLA PROFESSIONE: DALLA STORIA ALLE PROSPETTIVE FUTURE
DESCRIPTION:
URL:https://odcec.ct.it/dettaglio-evento/levoluzione-della-professione-dalla-storia-alle-prospettive-future/
CATEGORIES:Eventi FPC
END:VEVENT
BEGIN:VEVENT
DTSTART;TZID=Europe/Rome:20230912T150000
DTEND;TZID=Europe/Rome:20230912T190000
DTSTAMP:20260423T005938
CREATED:20240729T101257Z
LAST-MODIFIED:20241119T164713Z
UID:40314-1694530800-1694545200@odcec.ct.it
SUMMARY:Corso di formazione ed aggiornamento per Gestori della crisi da sovraindebitamento. Ai sensi dell'art. 4 comma 6 del D.M. n. 202 del 24/09/2014
DESCRIPTION:
URL:https://odcec.ct.it/dettaglio-evento/corso-di-formazione-ed-aggiornamento-per-gestori-della-crisi-da-sovraindebitamento-ai-sensi-dellart-4-comma-6-del-dm-n-202-del-24092014/
CATEGORIES:Eventi FPC
END:VEVENT
BEGIN:VEVENT
DTSTART;TZID=Europe/Rome:20230914T150000
DTEND;TZID=Europe/Rome:20230914T190000
DTSTAMP:20260423T005938
CREATED:20240729T101257Z
LAST-MODIFIED:20241119T164713Z
UID:40315-1694703600-1694718000@odcec.ct.it
SUMMARY:Corso di formazione ed aggiornamento per Gestori della crisi da sovraindebitamento. Ai sensi dell'art. 4 comma 6 del D.M. n. 202 del 24/09/2014
DESCRIPTION:
URL:https://odcec.ct.it/dettaglio-evento/corso-di-formazione-ed-aggiornamento-per-gestori-della-crisi-da-sovraindebitamento-ai-sensi-dellart-4-comma-6-del-dm-n-202-del-24092014/
CATEGORIES:Eventi FPC
END:VEVENT
BEGIN:VEVENT
DTSTART;TZID=Europe/Rome:20230915T150000
DTEND;TZID=Europe/Rome:20230915T180000
DTSTAMP:20260423T005938
CREATED:20240729T101257Z
LAST-MODIFIED:20241119T164713Z
UID:40316-1694790000-1694800800@odcec.ct.it
SUMMARY:GLI STRUMENTI DI PIANIFICAZIONE PATRIMONIALE E SUCCESSORIA IN AZIENDA
DESCRIPTION:
URL:https://odcec.ct.it/dettaglio-evento/gli-strumenti-di-pianificazione-patrimoniale-e-successoria-in-azienda/
CATEGORIES:Eventi FPC
END:VEVENT
BEGIN:VEVENT
DTSTART;TZID=Europe/Rome:20230916T150000
DTEND;TZID=Europe/Rome:20230916T190000
DTSTAMP:20260423T005938
CREATED:20240729T101257Z
LAST-MODIFIED:20241119T164713Z
UID:40317-1694876400-1694890800@odcec.ct.it
SUMMARY:Gli Effetti della Riforma dello Sport sulla Stagione Sportiva 2023/2024
DESCRIPTION:
URL:https://odcec.ct.it/dettaglio-evento/gli-effetti-della-riforma-dello-sport-sulla-stagione-sportiva-20232024/
CATEGORIES:Eventi FPC
END:VEVENT
BEGIN:VEVENT
DTSTART;TZID=Europe/Rome:20230919T150000
DTEND;TZID=Europe/Rome:20230919T180000
DTSTAMP:20260423T005938
CREATED:20240729T101257Z
LAST-MODIFIED:20241119T164713Z
UID:40318-1695135600-1695146400@odcec.ct.it
SUMMARY:L'IVA NEL COMMERCIO ELETRONICO
DESCRIPTION:
URL:https://odcec.ct.it/dettaglio-evento/liva-nel-commercio-eletronico/
CATEGORIES:Eventi FPC
END:VEVENT
BEGIN:VEVENT
DTSTART;TZID=Europe/Rome:20230919T150000
DTEND;TZID=Europe/Rome:20230919T190000
DTSTAMP:20260423T005938
CREATED:20240729T101257Z
LAST-MODIFIED:20241119T164713Z
UID:40319-1695135600-1695150000@odcec.ct.it
SUMMARY:Corso di formazione ed aggiornamento per Gestori della crisi da sovraindebitamento. Ai sensi dell'art. 4 comma 6 del D.M. n. 202 del 24/09/2014
DESCRIPTION:
URL:https://odcec.ct.it/dettaglio-evento/corso-di-formazione-ed-aggiornamento-per-gestori-della-crisi-da-sovraindebitamento-ai-sensi-dellart-4-comma-6-del-dm-n-202-del-24092014/
CATEGORIES:Eventi FPC
END:VEVENT
BEGIN:VEVENT
DTSTART;TZID=Europe/Rome:20230921T150000
DTEND;TZID=Europe/Rome:20230921T190000
DTSTAMP:20260423T005938
CREATED:20240729T101257Z
LAST-MODIFIED:20241119T164713Z
UID:40320-1695308400-1695322800@odcec.ct.it
SUMMARY:Corso di formazione ed aggiornamento per Gestori della crisi da sovraindebitamento. Ai sensi dell'art. 4 comma 6 del D.M. n. 202 del 24/09/2014
DESCRIPTION:
URL:https://odcec.ct.it/dettaglio-evento/corso-di-formazione-ed-aggiornamento-per-gestori-della-crisi-da-sovraindebitamento-ai-sensi-dellart-4-comma-6-del-dm-n-202-del-24092014/
CATEGORIES:Eventi FPC
END:VEVENT
BEGIN:VEVENT
DTSTART;TZID=Europe/Rome:20230925T153000
DTEND;TZID=Europe/Rome:20230925T193000
DTSTAMP:20260423T005938
CREATED:20240729T101257Z
LAST-MODIFIED:20241119T164713Z
UID:40321-1695655800-1695670200@odcec.ct.it
SUMMARY:GLI ADEGUATI ASSETTI AMMINISTRATIVI E CONTABILI AD UN ANNO DALL'ENTRATA IN VIGORE DEL CODICE DELLA CRISI D'IMPRESA
DESCRIPTION:
URL:https://odcec.ct.it/dettaglio-evento/gli-adeguati-assetti-amministrativi-e-contabili-ad-un-anno-dallentrata-in-vigore-del-codice-della-crisi-dimpresa/
CATEGORIES:Eventi FPC
END:VEVENT
BEGIN:VEVENT
DTSTART;TZID=Europe/Rome:20230926T150000
DTEND;TZID=Europe/Rome:20230926T190000
DTSTAMP:20260423T005938
CREATED:20240729T101257Z
LAST-MODIFIED:20241119T164713Z
UID:40322-1695740400-1695754800@odcec.ct.it
SUMMARY:Corso di formazione ed aggiornamento per Gestori della crisi da sovraindebitamento. Ai sensi dell'art. 4 comma 6 del D.M. n. 202 del 24/09/2014
DESCRIPTION:
URL:https://odcec.ct.it/dettaglio-evento/corso-di-formazione-ed-aggiornamento-per-gestori-della-crisi-da-sovraindebitamento-ai-sensi-dellart-4-comma-6-del-dm-n-202-del-24092014/
CATEGORIES:Eventi FPC
END:VEVENT
BEGIN:VEVENT
DTSTART;TZID=Europe/Rome:20230928T150000
DTEND;TZID=Europe/Rome:20230928T190000
DTSTAMP:20260423T005938
CREATED:20240729T101257Z
LAST-MODIFIED:20241119T164713Z
UID:40323-1695913200-1695927600@odcec.ct.it
SUMMARY:Corso di formazione ed aggiornamento per Gestori della crisi da sovraindebitamento. Ai sensi dell'art. 4 comma 6 del D.M. n. 202 del 24/09/2014
DESCRIPTION:
URL:https://odcec.ct.it/dettaglio-evento/corso-di-formazione-ed-aggiornamento-per-gestori-della-crisi-da-sovraindebitamento-ai-sensi-dellart-4-comma-6-del-dm-n-202-del-24092014/
CATEGORIES:Eventi FPC
END:VEVENT
BEGIN:VEVENT
DTSTART;TZID=Europe/Rome:20231002T093000
DTEND;TZID=Europe/Rome:20231002T113000
DTSTAMP:20260423T005938
CREATED:20240729T101257Z
LAST-MODIFIED:20241119T164713Z
UID:40324-1696239000-1696246200@odcec.ct.it
SUMMARY:Investimenti sostenibili 4.0 - Decreto ZES Unica
DESCRIPTION:
URL:https://odcec.ct.it/dettaglio-evento/investimenti-sostenibili-40-decreto-zes-unica/
CATEGORIES:Eventi FPC
END:VEVENT
BEGIN:VEVENT
DTSTART;TZID=Europe/Rome:20231003T150000
DTEND;TZID=Europe/Rome:20231003T190000
DTSTAMP:20260423T005938
CREATED:20240729T101258Z
LAST-MODIFIED:20241119T164713Z
UID:40325-1696345200-1696359600@odcec.ct.it
SUMMARY:Corso di formazione ed aggiornamento per Gestori della crisi da sovraindebitamento. Ai sensi dell'art. 4 comma 6 del D.M. n. 202 del 24/09/2014
DESCRIPTION:
URL:https://odcec.ct.it/dettaglio-evento/corso-di-formazione-ed-aggiornamento-per-gestori-della-crisi-da-sovraindebitamento-ai-sensi-dellart-4-comma-6-del-dm-n-202-del-24092014/
CATEGORIES:Eventi FPC
END:VEVENT
BEGIN:VEVENT
DTSTART;TZID=Europe/Rome:20231005T150000
DTEND;TZID=Europe/Rome:20231005T190000
DTSTAMP:20260423T005938
CREATED:20240729T101258Z
LAST-MODIFIED:20241119T164713Z
UID:40326-1696518000-1696532400@odcec.ct.it
SUMMARY:Corso di formazione ed aggiornamento per Gestori della crisi da sovraindebitamento. Ai sensi dell'art. 4 comma 6 del D.M. n. 202 del 24/09/2014
DESCRIPTION:
URL:https://odcec.ct.it/dettaglio-evento/corso-di-formazione-ed-aggiornamento-per-gestori-della-crisi-da-sovraindebitamento-ai-sensi-dellart-4-comma-6-del-dm-n-202-del-24092014/
CATEGORIES:Eventi FPC
END:VEVENT
BEGIN:VEVENT
DTSTART;TZID=Europe/Rome:20231006T090000
DTEND;TZID=Europe/Rome:20231006T130000
DTSTAMP:20260423T005938
CREATED:20240729T101258Z
LAST-MODIFIED:20241119T164713Z
UID:40327-1696582800-1696597200@odcec.ct.it
SUMMARY:CORSO SUL TERZO SETTORE E RIFORMA SPORT
DESCRIPTION:
URL:https://odcec.ct.it/dettaglio-evento/corso-sul-terzo-settore-e-riforma-sport/
CATEGORIES:Eventi FPC
END:VEVENT
BEGIN:VEVENT
DTSTART;TZID=Europe/Rome:20231010T150000
DTEND;TZID=Europe/Rome:20231010T190000
DTSTAMP:20260423T005938
CREATED:20240729T101258Z
LAST-MODIFIED:20241119T164713Z
UID:40328-1696950000-1696964400@odcec.ct.it
SUMMARY:Corso di formazione ed aggiornamento per Gestori della crisi da sovraindebitamento. Ai sensi dell'art. 4 comma 6 del D.M. n. 202 del 24/09/2014
DESCRIPTION:
URL:https://odcec.ct.it/dettaglio-evento/corso-di-formazione-ed-aggiornamento-per-gestori-della-crisi-da-sovraindebitamento-ai-sensi-dellart-4-comma-6-del-dm-n-202-del-24092014/
CATEGORIES:Eventi FPC
END:VEVENT
BEGIN:VEVENT
DTSTART;TZID=Europe/Rome:20231012T150000
DTEND;TZID=Europe/Rome:20231012T190000
DTSTAMP:20260423T005938
CREATED:20240729T101258Z
LAST-MODIFIED:20241119T164714Z
UID:40329-1697122800-1697137200@odcec.ct.it
SUMMARY:Corso di formazione ed aggiornamento per Gestori della crisi da sovraindebitamento. Ai sensi dell'art. 4 comma 6 del D.M. n. 202 del 24/09/2014
DESCRIPTION:
URL:https://odcec.ct.it/dettaglio-evento/corso-di-formazione-ed-aggiornamento-per-gestori-della-crisi-da-sovraindebitamento-ai-sensi-dellart-4-comma-6-del-dm-n-202-del-24092014/
CATEGORIES:Eventi FPC
END:VEVENT
BEGIN:VEVENT
DTSTART;TZID=Europe/Rome:20231013T090000
DTEND;TZID=Europe/Rome:20231013T130000
DTSTAMP:20260423T005938
CREATED:20240729T101258Z
LAST-MODIFIED:20241119T164714Z
UID:40330-1697187600-1697202000@odcec.ct.it
SUMMARY:CORSO SUL TERZO SETTORE E RIFORMA SPORT
DESCRIPTION:
URL:https://odcec.ct.it/dettaglio-evento/corso-sul-terzo-settore-e-riforma-sport/
CATEGORIES:Eventi FPC
END:VEVENT
END:VCALENDAR