BEGIN:VCALENDAR
VERSION:2.0
PRODID:-//ODCEC Catania - ECPv6.8.1//NONSGML v1.0//EN
CALSCALE:GREGORIAN
METHOD:PUBLISH
X-WR-CALNAME:ODCEC Catania
X-ORIGINAL-URL:https://odcec.ct.it
X-WR-CALDESC:Eventi per ODCEC Catania
REFRESH-INTERVAL;VALUE=DURATION:PT1H
X-Robots-Tag:noindex
X-PUBLISHED-TTL:PT1H
BEGIN:VTIMEZONE
TZID:Europe/Rome
BEGIN:DAYLIGHT
TZOFFSETFROM:+0100
TZOFFSETTO:+0200
TZNAME:CEST
DTSTART:20240331T010000
END:DAYLIGHT
BEGIN:STANDARD
TZOFFSETFROM:+0200
TZOFFSETTO:+0100
TZNAME:CET
DTSTART:20241027T010000
END:STANDARD
END:VTIMEZONE
BEGIN:VEVENT
DTSTART;TZID=Europe/Rome:20241127T090000
DTEND;TZID=Europe/Rome:20241127T130000
DTSTAMP:20260421T155052
CREATED:20241115T111442Z
LAST-MODIFIED:20241119T164717Z
UID:118205-1732698000-1732712400@odcec.ct.it
SUMMARY:IL SISTEMA DI VALUTAZIONE DELLA PERFORMANCE E IL RUOLO DELL'ORGANISMO INTERNO DI VALUTAZIONE
DESCRIPTION:
URL:https://odcec.ct.it/dettaglio-evento/il-sistema-di-valutazione-della-performance-e-il-ruolo-dellorganismo-interno-di-valutazione/
CATEGORIES:Eventi FPC
END:VEVENT
END:VCALENDAR