BEGIN:VCALENDAR
VERSION:2.0
PRODID:-//ODCEC Catania - ECPv6.8.1//NONSGML v1.0//EN
CALSCALE:GREGORIAN
METHOD:PUBLISH
X-WR-CALNAME:ODCEC Catania
X-ORIGINAL-URL:https://odcec.ct.it
X-WR-CALDESC:Eventi per ODCEC Catania
REFRESH-INTERVAL;VALUE=DURATION:PT1H
X-Robots-Tag:noindex
X-PUBLISHED-TTL:PT1H
BEGIN:VTIMEZONE
TZID:Europe/Rome
BEGIN:DAYLIGHT
TZOFFSETFROM:+0100
TZOFFSETTO:+0200
TZNAME:CEST
DTSTART:20240331T010000
END:DAYLIGHT
BEGIN:STANDARD
TZOFFSETFROM:+0200
TZOFFSETTO:+0100
TZNAME:CET
DTSTART:20241027T010000
END:STANDARD
END:VTIMEZONE
BEGIN:VEVENT
DTSTART;TZID=Europe/Rome:20241114T093000
DTEND;TZID=Europe/Rome:20241114T123000
DTSTAMP:20260421T171010
CREATED:20241107T101151Z
LAST-MODIFIED:20241119T164716Z
UID:118100-1731576600-1731587400@odcec.ct.it
SUMMARY:LA COMPLIANCE DEGLI STUDI IN MATERIA DI ANTIRICICLAGGIO E IL TRATTAMENTO DEI DATI IN MATERIA DI PRIVACY
DESCRIPTION:
URL:https://odcec.ct.it/dettaglio-evento/la-compliance-degli-studi-in-materia-di-antiriciclaggio-e-il-trattamento-dei-dati-in-materia-di-privacy/
CATEGORIES:Eventi FPC
END:VEVENT
BEGIN:VEVENT
DTSTART;TZID=Europe/Rome:20241114T153000
DTEND;TZID=Europe/Rome:20241114T193000
DTSTAMP:20260421T171010
CREATED:20241107T101151Z
LAST-MODIFIED:20241119T164716Z
UID:118101-1731598200-1731612600@odcec.ct.it
SUMMARY:LA RESPONSABILITA' DEGLI AMMINISTRATORI NELLA CRISI DI IMPRESA
DESCRIPTION:
URL:https://odcec.ct.it/dettaglio-evento/la-responsabilita-degli-amministratori-nella-crisi-di-impresa/
CATEGORIES:Eventi FPC
END:VEVENT
END:VCALENDAR