BEGIN:VCALENDAR
VERSION:2.0
PRODID:-//ODCEC Catania - ECPv6.8.1//NONSGML v1.0//EN
CALSCALE:GREGORIAN
METHOD:PUBLISH
X-ORIGINAL-URL:https://odcec.ct.it
X-WR-CALDESC:Eventi per ODCEC Catania
REFRESH-INTERVAL;VALUE=DURATION:PT1H
X-Robots-Tag:noindex
X-PUBLISHED-TTL:PT1H
BEGIN:VTIMEZONE
TZID:Europe/Rome
BEGIN:DAYLIGHT
TZOFFSETFROM:+0100
TZOFFSETTO:+0200
TZNAME:CEST
DTSTART:20230326T010000
END:DAYLIGHT
BEGIN:STANDARD
TZOFFSETFROM:+0200
TZOFFSETTO:+0100
TZNAME:CET
DTSTART:20231029T010000
END:STANDARD
END:VTIMEZONE
BEGIN:VEVENT
DTSTART;TZID=Europe/Rome:20231031T090000
DTEND;TZID=Europe/Rome:20231031T140000
DTSTAMP:20260422T102951
CREATED:20240729T101258Z
LAST-MODIFIED:20241119T164714Z
UID:40335-1698742800-1698760800@odcec.ct.it
SUMMARY:LA PRIMA REVISIONE ORDINARIA DELLE PARTECIPAZIONI DOPO L'ENTRATA IN VIGORE DEL DLGS. N. 201/2022: VERIFICHE E CONTROLLI DEI REVISORI SUGLI ADEMPIMENTI DELL'ENTE LOCALE E DELLE SOCIETÀ PUBBLICHE
DESCRIPTION:
URL:https://odcec.ct.it/dettaglio-evento/la-prima-revisione-ordinaria-delle-partecipazioni-dopo-lentrata-in-vigore-del-dlgs-n-2012022-verifiche-e-controlli-dei-revisori-sugli-adempimenti-dellente-locale-e-delle-societ-pubbliche/
CATEGORIES:Eventi FPC
END:VEVENT
BEGIN:VEVENT
DTSTART;TZID=Europe/Rome:20231031T093000
DTEND;TZID=Europe/Rome:20231031T123000
DTSTAMP:20260422T102951
CREATED:20240729T101258Z
LAST-MODIFIED:20241119T164714Z
UID:40336-1698744600-1698755400@odcec.ct.it
SUMMARY:Le caratteristiche distintive della leadership al femminile
DESCRIPTION:
URL:https://odcec.ct.it/dettaglio-evento/le-caratteristiche-distintive-della-leadership-al-femminile/
CATEGORIES:Eventi FPC
END:VEVENT
END:VCALENDAR