BEGIN:VCALENDAR
VERSION:2.0
PRODID:-//ODCEC Catania - ECPv6.8.1//NONSGML v1.0//EN
CALSCALE:GREGORIAN
METHOD:PUBLISH
X-ORIGINAL-URL:https://odcec.ct.it
X-WR-CALDESC:Eventi per ODCEC Catania
REFRESH-INTERVAL;VALUE=DURATION:PT1H
X-Robots-Tag:noindex
X-PUBLISHED-TTL:PT1H
BEGIN:VTIMEZONE
TZID:Europe/Rome
BEGIN:DAYLIGHT
TZOFFSETFROM:+0100
TZOFFSETTO:+0200
TZNAME:CEST
DTSTART:20230326T010000
END:DAYLIGHT
BEGIN:STANDARD
TZOFFSETFROM:+0200
TZOFFSETTO:+0100
TZNAME:CET
DTSTART:20231029T010000
END:STANDARD
END:VTIMEZONE
BEGIN:VEVENT
DTSTART;TZID=Europe/Rome:20230324T090000
DTEND;TZID=Europe/Rome:20230324T130000
DTSTAMP:20260422T214008
CREATED:20240729T101255Z
LAST-MODIFIED:20241119T164712Z
UID:40283-1679648400-1679662800@odcec.ct.it
SUMMARY:NOVITA' IVA 2023
DESCRIPTION:
URL:https://odcec.ct.it/dettaglio-evento/novita-iva-2023/
CATEGORIES:Eventi FPC
END:VEVENT
BEGIN:VEVENT
DTSTART;TZID=Europe/Rome:20230324T153000
DTEND;TZID=Europe/Rome:20230324T183000
DTSTAMP:20260422T214008
CREATED:20240729T101255Z
LAST-MODIFIED:20241119T164712Z
UID:40284-1679671800-1679682600@odcec.ct.it
SUMMARY:Le refluenze del prelievo erariale nella gestione pubblica e privata
DESCRIPTION:
URL:https://odcec.ct.it/dettaglio-evento/le-refluenze-del-prelievo-erariale-nella-gestione-pubblica-e-privata/
CATEGORIES:Eventi FPC
END:VEVENT
END:VCALENDAR