BEGIN:VCALENDAR
VERSION:2.0
PRODID:-//ODCEC Catania - ECPv6.8.1//NONSGML v1.0//EN
CALSCALE:GREGORIAN
METHOD:PUBLISH
X-ORIGINAL-URL:https://odcec.ct.it
X-WR-CALDESC:Eventi per ODCEC Catania
REFRESH-INTERVAL;VALUE=DURATION:PT1H
X-Robots-Tag:noindex
X-PUBLISHED-TTL:PT1H
BEGIN:VTIMEZONE
TZID:Europe/Rome
BEGIN:DAYLIGHT
TZOFFSETFROM:+0100
TZOFFSETTO:+0200
TZNAME:CEST
DTSTART:20230326T010000
END:DAYLIGHT
BEGIN:STANDARD
TZOFFSETFROM:+0200
TZOFFSETTO:+0100
TZNAME:CET
DTSTART:20231029T010000
END:STANDARD
END:VTIMEZONE
BEGIN:VEVENT
DTSTART;TZID=Europe/Rome:20230128T090000
DTEND;TZID=Europe/Rome:20230128T130000
DTSTAMP:20260423T005222
CREATED:20240729T101255Z
LAST-MODIFIED:20241119T164712Z
UID:40274-1674896400-1674910800@odcec.ct.it
SUMMARY:FORMAZIONE CONTINUA AZIENDALE PER AUMENTARE LA COMPETITIVITA' E RISPONDERE AI CAMBIAMENTI
DESCRIPTION:
URL:https://odcec.ct.it/dettaglio-evento/formazione-continua-aziendale-per-aumentare-la-competitivita-e-rispondere-ai-cambiamenti/
CATEGORIES:Eventi FPC
END:VEVENT
END:VCALENDAR