BEGIN:VCALENDAR
VERSION:2.0
PRODID:-//ODCEC Catania - ECPv6.8.1//NONSGML v1.0//EN
CALSCALE:GREGORIAN
METHOD:PUBLISH
X-ORIGINAL-URL:https://odcec.ct.it
X-WR-CALDESC:Eventi per ODCEC Catania
REFRESH-INTERVAL;VALUE=DURATION:PT1H
X-Robots-Tag:noindex
X-PUBLISHED-TTL:PT1H
BEGIN:VTIMEZONE
TZID:Europe/Rome
BEGIN:DAYLIGHT
TZOFFSETFROM:+0100
TZOFFSETTO:+0200
TZNAME:CEST
DTSTART:20220327T010000
END:DAYLIGHT
BEGIN:STANDARD
TZOFFSETFROM:+0200
TZOFFSETTO:+0100
TZNAME:CET
DTSTART:20221030T010000
END:STANDARD
END:VTIMEZONE
BEGIN:VEVENT
DTSTART;TZID=Europe/Rome:20220624T160000
DTEND;TZID=Europe/Rome:20220624T190000
DTSTAMP:20260423T113623
CREATED:20240729T101253Z
LAST-MODIFIED:20241119T164711Z
UID:40240-1656086400-1656097200@odcec.ct.it
SUMMARY:IMPRESA PUBBLICA E DIRITTO CONCORSUALE
DESCRIPTION:
URL:https://odcec.ct.it/dettaglio-evento/impresa-pubblica-e-diritto-concorsuale/
CATEGORIES:Eventi FPC
END:VEVENT
END:VCALENDAR