BEGIN:VCALENDAR
VERSION:2.0
PRODID:-//ODCEC Catania - ECPv6.8.1//NONSGML v1.0//EN
CALSCALE:GREGORIAN
METHOD:PUBLISH
X-ORIGINAL-URL:https://odcec.ct.it
X-WR-CALDESC:Eventi per ODCEC Catania
REFRESH-INTERVAL;VALUE=DURATION:PT1H
X-Robots-Tag:noindex
X-PUBLISHED-TTL:PT1H
BEGIN:VTIMEZONE
TZID:Europe/Rome
BEGIN:DAYLIGHT
TZOFFSETFROM:+0100
TZOFFSETTO:+0200
TZNAME:CEST
DTSTART:20210328T010000
END:DAYLIGHT
BEGIN:STANDARD
TZOFFSETFROM:+0200
TZOFFSETTO:+0100
TZNAME:CET
DTSTART:20211031T010000
END:STANDARD
END:VTIMEZONE
BEGIN:VEVENT
DTSTART;TZID=Europe/Rome:20211220T150000
DTEND;TZID=Europe/Rome:20211220T190000
DTSTAMP:20260423T202352
CREATED:20240729T101253Z
LAST-MODIFIED:20241119T164711Z
UID:40232-1640012400-1640026800@odcec.ct.it
SUMMARY:ADEMPIMENTI ANTIRICICLAGGIO ASPETTI PRATICI ED OPERATIVI DEL D.LGS 231/2007
DESCRIPTION:
URL:https://odcec.ct.it/dettaglio-evento/adempimenti-antiriciclaggio-aspetti-pratici-ed-operativi-del-dlgs-2312007/
CATEGORIES:Eventi FPC
END:VEVENT
END:VCALENDAR