BEGIN:VCALENDAR
VERSION:2.0
PRODID:-//ODCEC Catania - ECPv6.8.1//NONSGML v1.0//EN
CALSCALE:GREGORIAN
METHOD:PUBLISH
X-ORIGINAL-URL:https://odcec.ct.it
X-WR-CALDESC:Eventi per ODCEC Catania
REFRESH-INTERVAL;VALUE=DURATION:PT1H
X-Robots-Tag:noindex
X-PUBLISHED-TTL:PT1H
BEGIN:VTIMEZONE
TZID:Europe/Rome
BEGIN:DAYLIGHT
TZOFFSETFROM:+0100
TZOFFSETTO:+0200
TZNAME:CEST
DTSTART:20210328T010000
END:DAYLIGHT
BEGIN:STANDARD
TZOFFSETFROM:+0200
TZOFFSETTO:+0100
TZNAME:CET
DTSTART:20211031T010000
END:STANDARD
END:VTIMEZONE
BEGIN:VEVENT
DTSTART;TZID=Europe/Rome:20211124T160000
DTEND;TZID=Europe/Rome:20211124T190000
DTSTAMP:20260423T215339
CREATED:20240729T101253Z
LAST-MODIFIED:20241119T164710Z
UID:40228-1637769600-1637780400@odcec.ct.it
SUMMARY:Meritocrazia e pari opportunità: analisi della realizzazione professionale e sociale di genere
DESCRIPTION:
URL:https://odcec.ct.it/dettaglio-evento/meritocrazia-e-pari-opportunit-analisi-della-realizzazione-professionale-e-sociale-di-genere/
CATEGORIES:Eventi FPC
END:VEVENT
END:VCALENDAR