BEGIN:VCALENDAR
VERSION:2.0
PRODID:-//ODCEC Catania - ECPv6.8.1//NONSGML v1.0//EN
CALSCALE:GREGORIAN
METHOD:PUBLISH
X-WR-CALNAME:ODCEC Catania
X-ORIGINAL-URL:https://odcec.ct.it
X-WR-CALDESC:Eventi per ODCEC Catania
REFRESH-INTERVAL;VALUE=DURATION:PT1H
X-Robots-Tag:noindex
X-PUBLISHED-TTL:PT1H
BEGIN:VTIMEZONE
TZID:Europe/Rome
BEGIN:DAYLIGHT
TZOFFSETFROM:+0100
TZOFFSETTO:+0200
TZNAME:CEST
DTSTART:20210328T010000
END:DAYLIGHT
BEGIN:STANDARD
TZOFFSETFROM:+0200
TZOFFSETTO:+0100
TZNAME:CET
DTSTART:20211031T010000
END:STANDARD
END:VTIMEZONE
BEGIN:VEVENT
DTSTART;TZID=Europe/Rome:20211119T090000
DTEND;TZID=Europe/Rome:20211119T130000
DTSTAMP:20260423T215109
CREATED:20240729T101253Z
LAST-MODIFIED:20241119T164710Z
UID:40227-1637312400-1637326800@odcec.ct.it
SUMMARY:L'ATTIVITA' DI REVISIONE NELLE PMI
DESCRIPTION:
URL:https://odcec.ct.it/dettaglio-evento/lattivita-di-revisione-nelle-pmi/
CATEGORIES:Eventi FPC
END:VEVENT
END:VCALENDAR