BEGIN:VCALENDAR
VERSION:2.0
PRODID:-//ODCEC Catania - ECPv6.8.1//NONSGML v1.0//EN
CALSCALE:GREGORIAN
METHOD:PUBLISH
X-WR-CALNAME:ODCEC Catania
X-ORIGINAL-URL:https://odcec.ct.it
X-WR-CALDESC:Eventi per ODCEC Catania
REFRESH-INTERVAL;VALUE=DURATION:PT1H
X-Robots-Tag:noindex
X-PUBLISHED-TTL:PT1H
BEGIN:VTIMEZONE
TZID:Europe/Rome
BEGIN:DAYLIGHT
TZOFFSETFROM:+0100
TZOFFSETTO:+0200
TZNAME:CEST
DTSTART:20210328T010000
END:DAYLIGHT
BEGIN:STANDARD
TZOFFSETFROM:+0200
TZOFFSETTO:+0100
TZNAME:CET
DTSTART:20211031T010000
END:STANDARD
END:VTIMEZONE
BEGIN:VEVENT
DTSTART;TZID=Europe/Rome:20211014T150000
DTEND;TZID=Europe/Rome:20211014T180000
DTSTAMP:20260423T231106
CREATED:20240729T101252Z
LAST-MODIFIED:20241119T164710Z
UID:40224-1634223600-1634234400@odcec.ct.it
SUMMARY:I Digital Trust Services per la professione: PEC\, Firma digitale e SPID
DESCRIPTION:
URL:https://odcec.ct.it/dettaglio-evento/i-digital-trust-services-per-la-professione-pec-firma-digitale-e-spid/
CATEGORIES:Eventi FPC
END:VEVENT
END:VCALENDAR