BEGIN:VCALENDAR
VERSION:2.0
PRODID:-//ODCEC Catania - ECPv6.8.1//NONSGML v1.0//EN
CALSCALE:GREGORIAN
METHOD:PUBLISH
X-WR-CALNAME:ODCEC Catania
X-ORIGINAL-URL:https://odcec.ct.it
X-WR-CALDESC:Eventi per ODCEC Catania
REFRESH-INTERVAL;VALUE=DURATION:PT1H
X-Robots-Tag:noindex
X-PUBLISHED-TTL:PT1H
BEGIN:VTIMEZONE
TZID:Europe/Rome
BEGIN:DAYLIGHT
TZOFFSETFROM:+0100
TZOFFSETTO:+0200
TZNAME:CEST
DTSTART:20240331T010000
END:DAYLIGHT
BEGIN:STANDARD
TZOFFSETFROM:+0200
TZOFFSETTO:+0100
TZNAME:CET
DTSTART:20241027T010000
END:STANDARD
END:VTIMEZONE
BEGIN:VEVENT
DTSTART;TZID=Europe/Rome:20240531T090000
DTEND;TZID=Europe/Rome:20240531T130000
DTSTAMP:20260422T024628
CREATED:20240729T101301Z
LAST-MODIFIED:20241119T164715Z
UID:40392-1717146000-1717160400@odcec.ct.it
SUMMARY:IL PIANO NAZIONALE TRANSIZIONE 5.0\, LA ZES UNICA\, DECRETO COESIONE.OPPORTUNITA' PER LO SVILUPPO DEL MEZZOGIORNO
DESCRIPTION:
URL:https://odcec.ct.it/dettaglio-evento/il-piano-nazionale-transizione-50-la-zes-unica-decreto-coesioneopportunita-per-lo-sviluppo-del-mezzogiorno/
CATEGORIES:Eventi FPC
END:VEVENT
BEGIN:VEVENT
DTSTART;TZID=Europe/Rome:20240605T150000
DTEND;TZID=Europe/Rome:20240605T180000
DTSTAMP:20260422T024628
CREATED:20240729T101301Z
LAST-MODIFIED:20241119T164715Z
UID:40393-1717599600-1717610400@odcec.ct.it
SUMMARY:IL FUTURO DEL COMMERCIALISTA: CONSULENTE AZIENDALE INNOVATIVO
DESCRIPTION:
URL:https://odcec.ct.it/dettaglio-evento/il-futuro-del-commercialista-consulente-aziendale-innovativo/
CATEGORIES:Eventi FPC
END:VEVENT
BEGIN:VEVENT
DTSTART;TZID=Europe/Rome:20240610T150000
DTEND;TZID=Europe/Rome:20240610T190000
DTSTAMP:20260422T024628
CREATED:20240729T101301Z
LAST-MODIFIED:20241119T164715Z
UID:40394-1718031600-1718046000@odcec.ct.it
SUMMARY:Le principali novità per la prevenzione ed il contrasto al lavoro irregolare introdotte dal DL 19/2024
DESCRIPTION:
URL:https://odcec.ct.it/dettaglio-evento/le-principali-novit-per-la-prevenzione-ed-il-contrasto-al-lavoro-irregolare-introdotte-dal-dl-192024/
CATEGORIES:Eventi FPC
END:VEVENT
BEGIN:VEVENT
DTSTART;TZID=Europe/Rome:20240613T093000
DTEND;TZID=Europe/Rome:20240613T130000
DTSTAMP:20260422T024628
CREATED:20240729T101301Z
LAST-MODIFIED:20241119T164715Z
UID:40395-1718271000-1718283600@odcec.ct.it
SUMMARY:I CREDITI D'IMPOSTA TRA VECCHIE E NUOVE AGEVOLAZIONI
DESCRIPTION:
URL:https://odcec.ct.it/dettaglio-evento/i-crediti-dimposta-tra-vecchie-e-nuove-agevolazioni/
CATEGORIES:Eventi FPC
END:VEVENT
BEGIN:VEVENT
DTSTART;TZID=Europe/Rome:20240618T090000
DTEND;TZID=Europe/Rome:20240618T130000
DTSTAMP:20260422T024628
CREATED:20240729T101301Z
LAST-MODIFIED:20241119T164715Z
UID:40396-1718701200-1718715600@odcec.ct.it
SUMMARY:LE PROSSIME SCADENZE NEL MONDO SPORTIVO
DESCRIPTION:
URL:https://odcec.ct.it/dettaglio-evento/le-prossime-scadenze-nel-mondo-sportivo/
CATEGORIES:Eventi FPC
END:VEVENT
BEGIN:VEVENT
DTSTART;TZID=Europe/Rome:20240618T153000
DTEND;TZID=Europe/Rome:20240618T183000
DTSTAMP:20260422T024629
CREATED:20240729T101301Z
LAST-MODIFIED:20241119T164716Z
UID:40397-1718724600-1718735400@odcec.ct.it
SUMMARY:CONCORDATO PREVENTIVO BIENNALE E RIFLESSI DELLA DICHIARAZIONE DEI REDDITI 2024
DESCRIPTION:
URL:https://odcec.ct.it/dettaglio-evento/concordato-preventivo-biennale-e-riflessi-della-dichiarazione-dei-redditi-2024/
CATEGORIES:Eventi FPC
END:VEVENT
BEGIN:VEVENT
DTSTART;TZID=Europe/Rome:20240625T160000
DTEND;TZID=Europe/Rome:20240625T200000
DTSTAMP:20260422T024629
CREATED:20240729T101301Z
LAST-MODIFIED:20241119T164716Z
UID:40398-1719331200-1719345600@odcec.ct.it
SUMMARY:ADEGUATI ASSETTI ORGANIZZATIVI\, AMMINISTRATIVI E CONTABILI
DESCRIPTION:
URL:https://odcec.ct.it/dettaglio-evento/adeguati-assetti-organizzativi-amministrativi-e-contabili/
CATEGORIES:Eventi FPC
END:VEVENT
BEGIN:VEVENT
DTSTART;TZID=Europe/Rome:20240626T083000
DTEND;TZID=Europe/Rome:20240626T133000
DTSTAMP:20260422T024629
CREATED:20240729T101301Z
LAST-MODIFIED:20241119T164716Z
UID:40399-1719390600-1719408600@odcec.ct.it
SUMMARY:INTELLIGENZA ARTIFICIALE E TECNOLOGIE DIGITALI A SUPPORTO DELLA SALUTE E SICUREZZA SUL LAVORO
DESCRIPTION:
URL:https://odcec.ct.it/dettaglio-evento/intelligenza-artificiale-e-tecnologie-digitali-a-supporto-della-salute-e-sicurezza-sul-lavoro/
CATEGORIES:Eventi FPC
END:VEVENT
BEGIN:VEVENT
DTSTART;TZID=Europe/Rome:20240626T150000
DTEND;TZID=Europe/Rome:20240626T190000
DTSTAMP:20260422T024629
CREATED:20240729T101301Z
LAST-MODIFIED:20241119T164716Z
UID:40400-1719414000-1719428400@odcec.ct.it
SUMMARY:Nuovo approccio per comprendere gli indicatori chiave della redditività aziendale con l'ausilio dell'intelligenza artificiale
DESCRIPTION:
URL:https://odcec.ct.it/dettaglio-evento/nuovo-approccio-per-comprendere-gli-indicatori-chiave-della-redditivit-aziendale-con-lausilio-dellintelligenza-artificiale/
CATEGORIES:Eventi FPC
END:VEVENT
BEGIN:VEVENT
DTSTART;TZID=Europe/Rome:20240726T150000
DTEND;TZID=Europe/Rome:20240726T170000
DTSTAMP:20260422T024629
CREATED:20240729T101301Z
LAST-MODIFIED:20241119T164716Z
UID:40401-1722006000-1722013200@odcec.ct.it
SUMMARY:IL DISSESTO FINANZIARIO
DESCRIPTION:
URL:https://odcec.ct.it/dettaglio-evento/il-dissesto-finanziario/
CATEGORIES:Eventi FPC
END:VEVENT
BEGIN:VEVENT
DTSTART;TZID=Europe/Rome:20240920T090000
DTEND;TZID=Europe/Rome:20240920T173000
DTSTAMP:20260422T024629
CREATED:20241015T230301Z
LAST-MODIFIED:20241119T164716Z
UID:114908-1726822800-1726853400@odcec.ct.it
SUMMARY:Pianificazione patrimoniale familiare e passaggio generazionale
DESCRIPTION:
URL:https://odcec.ct.it/dettaglio-evento/pianificazione-patrimoniale-familiare-e-passaggio-generazionale/
CATEGORIES:Eventi FPC
END:VEVENT
BEGIN:VEVENT
DTSTART;TZID=Europe/Rome:20240925T090000
DTEND;TZID=Europe/Rome:20240925T130000
DTSTAMP:20260422T024629
CREATED:20241015T230301Z
LAST-MODIFIED:20241119T164716Z
UID:114909-1727254800-1727269200@odcec.ct.it
SUMMARY:Il Decreto 'Coesione' n. 60/2024: opportunità di investimento nelle ZES e incentivi economici per nuovo lavoro subordinato\, autonomo e professionale.
DESCRIPTION:
URL:https://odcec.ct.it/dettaglio-evento/il-decreto-coesione-n-602024-opportunit-di-investimento-nelle-zes-e-incentivi-economici-per-nuovo-lavoro-subordinato-autonomo-e-professionale/
CATEGORIES:Eventi FPC
END:VEVENT
BEGIN:VEVENT
DTSTART;TZID=Europe/Rome:20240926T100000
DTEND;TZID=Europe/Rome:20240926T120000
DTSTAMP:20260422T024629
CREATED:20241015T230301Z
LAST-MODIFIED:20241119T164716Z
UID:114910-1727344800-1727352000@odcec.ct.it
SUMMARY:COMUNITA' ENERGETICHE: LO SCENARIO ATTUALE
DESCRIPTION:
URL:https://odcec.ct.it/dettaglio-evento/comunita-energetiche-lo-scenario-attuale/
CATEGORIES:Eventi FPC
END:VEVENT
BEGIN:VEVENT
DTSTART;TZID=Europe/Rome:20240927T083000
DTEND;TZID=Europe/Rome:20240927T133000
DTSTAMP:20260422T024629
CREATED:20241015T230301Z
LAST-MODIFIED:20241119T164716Z
UID:114911-1727425800-1727443800@odcec.ct.it
SUMMARY:ENTI LOCALI: Bilancio Consolidato 2023 – Rapporto dell'Ente Locale con le Società partecipate - Controlli dell'Organo di Revisione
DESCRIPTION:
URL:https://odcec.ct.it/dettaglio-evento/enti-locali-bilancio-consolidato-2023-rapporto-dellente-locale-con-le-societ-partecipate-controlli-dellorgano-di-revisione/
CATEGORIES:Eventi FPC
END:VEVENT
BEGIN:VEVENT
DTSTART;TZID=Europe/Rome:20240927T140000
DTEND;TZID=Europe/Rome:20240927T180000
DTSTAMP:20260422T024629
CREATED:20241015T230301Z
LAST-MODIFIED:20241119T164716Z
UID:114912-1727445600-1727460000@odcec.ct.it
SUMMARY:CORSO DI FORMAZIONE PER LA CONFERMA DELL'ISCRIZIONE NELL'ELENCO DEI PROFESSIONISTI CHE PROVVEDONO ALLE OPERAZIONI DI VENDITA (AI SENSI DELL’ART. 179-TER\, COMMA 7\, LETT. B)\, DISP. ATT. C.P.C.)
DESCRIPTION:
URL:https://odcec.ct.it/dettaglio-evento/corso-di-formazione-per-la-conferma-delliscrizione-nellelenco-dei-professionisti-che-provvedono-alle-operazioni-di-vendita-ai-sensi-dellart-179ter-comma-7-lett-b-disp-att-cpc/
CATEGORIES:Eventi FPC
END:VEVENT
BEGIN:VEVENT
DTSTART;TZID=Europe/Rome:20241001T140000
DTEND;TZID=Europe/Rome:20241001T180000
DTSTAMP:20260422T024629
CREATED:20241015T230301Z
LAST-MODIFIED:20241119T164716Z
UID:114913-1727791200-1727805600@odcec.ct.it
SUMMARY:CORSO DI FORMAZIONE PER LA CONFERMA DELL'ISCRIZIONE NELL'ELENCO DEI PROFESSIONISTI CHE PROVVEDONO ALLE OPERAZIONI DI VENDITA (AI SENSI DELL’ART. 179-TER\, COMMA 7\, LETT. B)\, DISP. ATT. C.P.C.)
DESCRIPTION:
URL:https://odcec.ct.it/dettaglio-evento/corso-di-formazione-per-la-conferma-delliscrizione-nellelenco-dei-professionisti-che-provvedono-alle-operazioni-di-vendita-ai-sensi-dellart-179ter-comma-7-lett-b-disp-att-cpc/
CATEGORIES:Eventi FPC
END:VEVENT
BEGIN:VEVENT
DTSTART;TZID=Europe/Rome:20241004T090000
DTEND;TZID=Europe/Rome:20241004T130000
DTSTAMP:20260422T024629
CREATED:20241015T230301Z
LAST-MODIFIED:20241119T164716Z
UID:114914-1728032400-1728046800@odcec.ct.it
SUMMARY:SOCIETA' PARTECIPATE E CRISI D'IMPRESA
DESCRIPTION:
URL:https://odcec.ct.it/dettaglio-evento/societa-partecipate-e-crisi-dimpresa/
CATEGORIES:Eventi FPC
END:VEVENT
BEGIN:VEVENT
DTSTART;TZID=Europe/Rome:20241004T140000
DTEND;TZID=Europe/Rome:20241004T180000
DTSTAMP:20260422T024629
CREATED:20241015T230301Z
LAST-MODIFIED:20241119T164716Z
UID:114915-1728050400-1728064800@odcec.ct.it
SUMMARY:CORSO DI FORMAZIONE PER LA CONFERMA DELL'ISCRIZIONE NELL'ELENCO DEI PROFESSIONISTI CHE PROVVEDONO ALLE OPERAZIONI DI VENDITA (AI SENSI DELL’ART. 179-TER\, COMMA 7\, LETT. B)\, DISP. ATT. C.P.C.)
DESCRIPTION:
URL:https://odcec.ct.it/dettaglio-evento/corso-di-formazione-per-la-conferma-delliscrizione-nellelenco-dei-professionisti-che-provvedono-alle-operazioni-di-vendita-ai-sensi-dellart-179ter-comma-7-lett-b-disp-att-cpc/
CATEGORIES:Eventi FPC
END:VEVENT
BEGIN:VEVENT
DTSTART;TZID=Europe/Rome:20241004T150000
DTEND;TZID=Europe/Rome:20241004T180000
DTSTAMP:20260422T024629
CREATED:20241015T230301Z
LAST-MODIFIED:20241119T164716Z
UID:114916-1728054000-1728064800@odcec.ct.it
SUMMARY:: LO STATO DI ATTUAZIONE DELLA RIFORMA FISCALE E I NUOVI TESTI UNICI “REDDITI” ED “IVA”
DESCRIPTION:
URL:https://odcec.ct.it/dettaglio-evento/-lo-stato-di-attuazione-della-riforma-fiscale-e-i-nuovi-testi-unici-redditi-ed-iva/
CATEGORIES:Eventi FPC
END:VEVENT
BEGIN:VEVENT
DTSTART;TZID=Europe/Rome:20241007T140000
DTEND;TZID=Europe/Rome:20241007T180000
DTSTAMP:20260422T024629
CREATED:20241015T230301Z
LAST-MODIFIED:20241119T164716Z
UID:114917-1728309600-1728324000@odcec.ct.it
SUMMARY:CORSO DI FORMAZIONE PER LA CONFERMA DELL'ISCRIZIONE NELL'ELENCO DEI PROFESSIONISTI CHE PROVVEDONO ALLE OPERAZIONI DI VENDITA (AI SENSI DELL’ART. 179-TER\, COMMA 7\, LETT. B)\, DISP. ATT. C.P.C.)
DESCRIPTION:
URL:https://odcec.ct.it/dettaglio-evento/corso-di-formazione-per-la-conferma-delliscrizione-nellelenco-dei-professionisti-che-provvedono-alle-operazioni-di-vendita-ai-sensi-dellart-179ter-comma-7-lett-b-disp-att-cpc/
CATEGORIES:Eventi FPC
END:VEVENT
BEGIN:VEVENT
DTSTART;TZID=Europe/Rome:20241008T143000
DTEND;TZID=Europe/Rome:20241008T173000
DTSTAMP:20260422T024629
CREATED:20241015T230301Z
LAST-MODIFIED:20241119T164716Z
UID:114918-1728397800-1728408600@odcec.ct.it
SUMMARY:Concordato preventivo biennale: calcoli di convenienza dopo l'ultima Circolare n.18/E
DESCRIPTION:
URL:https://odcec.ct.it/dettaglio-evento/concordato-preventivo-biennale-calcoli-di-convenienza-dopo-lultima-circolare-n18e/
CATEGORIES:Eventi FPC
END:VEVENT
BEGIN:VEVENT
DTSTART;TZID=Europe/Rome:20241011T083000
DTEND;TZID=Europe/Rome:20241011T193000
DTSTAMP:20260422T024629
CREATED:20241015T230301Z
LAST-MODIFIED:20241119T164716Z
UID:114919-1728635400-1728675000@odcec.ct.it
SUMMARY:CORSO COMMISSARI ENTI LOCALI IN DISSESTO
DESCRIPTION:
URL:https://odcec.ct.it/dettaglio-evento/corso-commissari-enti-locali-in-dissesto/
CATEGORIES:Eventi FPC
END:VEVENT
BEGIN:VEVENT
DTSTART;TZID=Europe/Rome:20241011T160000
DTEND;TZID=Europe/Rome:20241011T190000
DTSTAMP:20260422T024629
CREATED:20241015T230301Z
LAST-MODIFIED:20241119T164716Z
UID:114920-1728662400-1728673200@odcec.ct.it
SUMMARY:LA RIFORMA TRIBUTARIA
DESCRIPTION:
URL:https://odcec.ct.it/dettaglio-evento/la-riforma-tributaria/
CATEGORIES:Eventi FPC
END:VEVENT
BEGIN:VEVENT
DTSTART;TZID=Europe/Rome:20241012T083000
DTEND;TZID=Europe/Rome:20241012T133000
DTSTAMP:20260422T024629
CREATED:20241015T230302Z
LAST-MODIFIED:20241119T164716Z
UID:114921-1728721800-1728739800@odcec.ct.it
SUMMARY:CORSO COMMISSARI ENTI LOCALI IN DISSESTO
DESCRIPTION:
URL:https://odcec.ct.it/dettaglio-evento/corso-commissari-enti-locali-in-dissesto/
CATEGORIES:Eventi FPC
END:VEVENT
BEGIN:VEVENT
DTSTART;TZID=Europe/Rome:20241018T083000
DTEND;TZID=Europe/Rome:20241018T193000
DTSTAMP:20260422T024629
CREATED:20241015T230302Z
LAST-MODIFIED:20241119T164716Z
UID:114922-1729240200-1729279800@odcec.ct.it
SUMMARY:CORSO COMMISSARI ENTI LOCALI IN DISSESTO
DESCRIPTION:
URL:https://odcec.ct.it/dettaglio-evento/corso-commissari-enti-locali-in-dissesto/
CATEGORIES:Eventi FPC
END:VEVENT
BEGIN:VEVENT
DTSTART;TZID=Europe/Rome:20241018T090000
DTEND;TZID=Europe/Rome:20241018T130000
DTSTAMP:20260422T024629
CREATED:20241015T230302Z
LAST-MODIFIED:20241119T164716Z
UID:114923-1729242000-1729256400@odcec.ct.it
SUMMARY:CORSO DI FORMAZIONE PER LA CONFERMA DELL'ISCRIZIONE NELL'ELENCO DEI PROFESSIONISTI CHE PROVVEDONO ALLE OPERAZIONI DI VENDITA (AI SENSI DELL’ART. 179-TER\, COMMA 7\, LETT. B)\, DISP. ATT. C.P.C.)
DESCRIPTION:
URL:https://odcec.ct.it/dettaglio-evento/corso-di-formazione-per-la-conferma-delliscrizione-nellelenco-dei-professionisti-che-provvedono-alle-operazioni-di-vendita-ai-sensi-dellart-179ter-comma-7-lett-b-disp-att-cpc/
CATEGORIES:Eventi FPC
END:VEVENT
BEGIN:VEVENT
DTSTART;TZID=Europe/Rome:20241019T083000
DTEND;TZID=Europe/Rome:20241019T133000
DTSTAMP:20260422T024629
CREATED:20241015T230302Z
LAST-MODIFIED:20241119T164716Z
UID:114924-1729326600-1729344600@odcec.ct.it
SUMMARY:CORSO COMMISSARI ENTI LOCALI IN DISSESTO
DESCRIPTION:
URL:https://odcec.ct.it/dettaglio-evento/corso-commissari-enti-locali-in-dissesto/
CATEGORIES:Eventi FPC
END:VEVENT
BEGIN:VEVENT
DTSTART;TZID=Europe/Rome:20241023T100000
DTEND;TZID=Europe/Rome:20241023T123000
DTSTAMP:20260422T024629
CREATED:20241107T101151Z
LAST-MODIFIED:20241119T164716Z
UID:118096-1729677600-1729686600@odcec.ct.it
SUMMARY:CREDITO D'IMPOSTA ZES UNICA: COMUNICAZIONE INTEGRATIVA. INCERTEZZE ED OPPORTUNITA'
DESCRIPTION:
URL:https://odcec.ct.it/dettaglio-evento/credito-dimposta-zes-unica-comunicazione-integrativa-incertezze-ed-opportunita/
CATEGORIES:Eventi FPC
END:VEVENT
BEGIN:VEVENT
DTSTART;TZID=Europe/Rome:20241025T083000
DTEND;TZID=Europe/Rome:20241025T193000
DTSTAMP:20260422T024629
CREATED:20241015T230302Z
LAST-MODIFIED:20241119T164716Z
UID:114925-1729845000-1729884600@odcec.ct.it
SUMMARY:CORSO COMMISSARI ENTI LOCALI IN DISSESTO
DESCRIPTION:
URL:https://odcec.ct.it/dettaglio-evento/corso-commissari-enti-locali-in-dissesto/
CATEGORIES:Eventi FPC
END:VEVENT
BEGIN:VEVENT
DTSTART;TZID=Europe/Rome:20241025T100000
DTEND;TZID=Europe/Rome:20241025T130000
DTSTAMP:20260422T024629
CREATED:20241107T101151Z
LAST-MODIFIED:20241119T164716Z
UID:118097-1729850400-1729861200@odcec.ct.it
SUMMARY:Il Piano Nazionale Transizione 5.0. Opportunità di Sviluppo per le PMI
DESCRIPTION:
URL:https://odcec.ct.it/dettaglio-evento/il-piano-nazionale-transizione-50-opportunit-di-sviluppo-per-le-pmi/
CATEGORIES:Eventi FPC
END:VEVENT
END:VCALENDAR