BEGIN:VCALENDAR
VERSION:2.0
PRODID:-//ODCEC Catania - ECPv6.8.1//NONSGML v1.0//EN
CALSCALE:GREGORIAN
METHOD:PUBLISH
X-WR-CALNAME:ODCEC Catania
X-ORIGINAL-URL:https://odcec.ct.it
X-WR-CALDESC:Eventi per ODCEC Catania
REFRESH-INTERVAL;VALUE=DURATION:PT1H
X-Robots-Tag:noindex
X-PUBLISHED-TTL:PT1H
BEGIN:VTIMEZONE
TZID:Europe/Rome
BEGIN:DAYLIGHT
TZOFFSETFROM:+0100
TZOFFSETTO:+0200
TZNAME:CEST
DTSTART:20220327T010000
END:DAYLIGHT
BEGIN:STANDARD
TZOFFSETFROM:+0200
TZOFFSETTO:+0100
TZNAME:CET
DTSTART:20221030T010000
END:STANDARD
BEGIN:DAYLIGHT
TZOFFSETFROM:+0100
TZOFFSETTO:+0200
TZNAME:CEST
DTSTART:20230326T010000
END:DAYLIGHT
BEGIN:STANDARD
TZOFFSETFROM:+0200
TZOFFSETTO:+0100
TZNAME:CET
DTSTART:20231029T010000
END:STANDARD
END:VTIMEZONE
BEGIN:VEVENT
DTSTART;TZID=Europe/Rome:20221104T153000
DTEND;TZID=Europe/Rome:20221104T193000
DTSTAMP:20260423T035847
CREATED:20240729T101254Z
LAST-MODIFIED:20241119T164711Z
UID:40251-1667575800-1667590200@odcec.ct.it
SUMMARY:Corso Revisori Legali 2022
DESCRIPTION:
URL:https://odcec.ct.it/dettaglio-evento/corso-revisori-legali-2022/
CATEGORIES:Eventi FPC
END:VEVENT
BEGIN:VEVENT
DTSTART;TZID=Europe/Rome:20221105T093000
DTEND;TZID=Europe/Rome:20221105T133000
DTSTAMP:20260423T035847
CREATED:20240729T101254Z
LAST-MODIFIED:20241119T164711Z
UID:40252-1667640600-1667655000@odcec.ct.it
SUMMARY:Corso Revisori Legali 2022
DESCRIPTION:
URL:https://odcec.ct.it/dettaglio-evento/corso-revisori-legali-2022/
CATEGORIES:Eventi FPC
END:VEVENT
BEGIN:VEVENT
DTSTART;TZID=Europe/Rome:20221110T093000
DTEND;TZID=Europe/Rome:20221110T123000
DTSTAMP:20260423T035847
CREATED:20240729T101254Z
LAST-MODIFIED:20241119T164711Z
UID:40253-1668072600-1668083400@odcec.ct.it
SUMMARY:LA CASSA INCONTRA GLI ISCRITTI
DESCRIPTION:
URL:https://odcec.ct.it/dettaglio-evento/la-cassa-incontra-gli-iscritti/
CATEGORIES:Eventi FPC
END:VEVENT
BEGIN:VEVENT
DTSTART;TZID=Europe/Rome:20221111T153000
DTEND;TZID=Europe/Rome:20221111T193000
DTSTAMP:20260423T035847
CREATED:20240729T101254Z
LAST-MODIFIED:20241119T164711Z
UID:40254-1668180600-1668195000@odcec.ct.it
SUMMARY:Corso Revisori Legali 2022
DESCRIPTION:
URL:https://odcec.ct.it/dettaglio-evento/corso-revisori-legali-2022/
CATEGORIES:Eventi FPC
END:VEVENT
BEGIN:VEVENT
DTSTART;TZID=Europe/Rome:20221112T093000
DTEND;TZID=Europe/Rome:20221112T133000
DTSTAMP:20260423T035847
CREATED:20240729T101254Z
LAST-MODIFIED:20241119T164711Z
UID:40255-1668245400-1668259800@odcec.ct.it
SUMMARY:Corso Revisori Legali 2022
DESCRIPTION:
URL:https://odcec.ct.it/dettaglio-evento/corso-revisori-legali-2022/
CATEGORIES:Eventi FPC
END:VEVENT
BEGIN:VEVENT
DTSTART;TZID=Europe/Rome:20221117T150000
DTEND;TZID=Europe/Rome:20221117T170000
DTSTAMP:20260423T035847
CREATED:20240729T101254Z
LAST-MODIFIED:20241119T164711Z
UID:40256-1668697200-1668704400@odcec.ct.it
SUMMARY:UTILIZZO DEI SERVIZI TELEMATICI – INSERIMENTO DELEGA CASSETTO FISCALE E FATTURE E CORRISPETTIVI
DESCRIPTION:
URL:https://odcec.ct.it/dettaglio-evento/utilizzo-dei-servizi-telematici-inserimento-delega-cassetto-fiscale-e-fatture-e-corrispettivi/
CATEGORIES:Eventi FPC
END:VEVENT
BEGIN:VEVENT
DTSTART;TZID=Europe/Rome:20221118T090000
DTEND;TZID=Europe/Rome:20221118T130000
DTSTAMP:20260423T035847
CREATED:20240729T101254Z
LAST-MODIFIED:20241119T164711Z
UID:40257-1668762000-1668776400@odcec.ct.it
SUMMARY:BONUS EDILIZI: stato dell'arte e possibili scenari
DESCRIPTION:
URL:https://odcec.ct.it/dettaglio-evento/bonus-edilizi-stato-dellarte-e-possibili-scenari/
CATEGORIES:Eventi FPC
END:VEVENT
BEGIN:VEVENT
DTSTART;TZID=Europe/Rome:20221118T153000
DTEND;TZID=Europe/Rome:20221118T193000
DTSTAMP:20260423T035847
CREATED:20240729T101254Z
LAST-MODIFIED:20241119T164711Z
UID:40258-1668785400-1668799800@odcec.ct.it
SUMMARY:Corso Revisori Legali 2022
DESCRIPTION:
URL:https://odcec.ct.it/dettaglio-evento/corso-revisori-legali-2022/
CATEGORIES:Eventi FPC
END:VEVENT
BEGIN:VEVENT
DTSTART;TZID=Europe/Rome:20221125T153000
DTEND;TZID=Europe/Rome:20221125T173000
DTSTAMP:20260423T035847
CREATED:20240729T101254Z
LAST-MODIFIED:20241119T164711Z
UID:40259-1669390200-1669397400@odcec.ct.it
SUMMARY:VIOLENZA ECONOMICA DI GENERE: DOVERE ETICO E DIRITTO
DESCRIPTION:
URL:https://odcec.ct.it/dettaglio-evento/violenza-economica-di-genere-dovere-etico-e-diritto/
CATEGORIES:Eventi FPC
END:VEVENT
BEGIN:VEVENT
DTSTART;TZID=Europe/Rome:20221126T093000
DTEND;TZID=Europe/Rome:20221126T133000
DTSTAMP:20260423T035847
CREATED:20240729T101254Z
LAST-MODIFIED:20241119T164711Z
UID:40260-1669455000-1669469400@odcec.ct.it
SUMMARY:Corso Revisori Legali 2022
DESCRIPTION:
URL:https://odcec.ct.it/dettaglio-evento/corso-revisori-legali-2022/
CATEGORIES:Eventi FPC
END:VEVENT
BEGIN:VEVENT
DTSTART;TZID=Europe/Rome:20221129T083000
DTEND;TZID=Europe/Rome:20221129T133000
DTSTAMP:20260423T035847
CREATED:20240729T101254Z
LAST-MODIFIED:20241119T164711Z
UID:40261-1669710600-1669728600@odcec.ct.it
SUMMARY:PIANO DI RAZIONALIZZAZIONE DELLE PARTECIPAZIONI SOCIETARIE.ADEMPIMENTI E RIFLESSI NEL RAPPORTO CON GLI ENTI LOCALI – CONTROLLI DELL'ORGANO DI REVISIONE
DESCRIPTION:
URL:https://odcec.ct.it/dettaglio-evento/piano-di-razionalizzazione-delle-partecipazioni-societarieadempimenti-e-riflessi-nel-rapporto-con-gli-enti-locali-controlli-dellorgano-di-revisione/
CATEGORIES:Eventi FPC
END:VEVENT
BEGIN:VEVENT
DTSTART;TZID=Europe/Rome:20221130T160000
DTEND;TZID=Europe/Rome:20221130T190000
DTSTAMP:20260423T035847
CREATED:20240729T101254Z
LAST-MODIFIED:20241119T164712Z
UID:40262-1669824000-1669834800@odcec.ct.it
SUMMARY:P.N.N.R. - Sinergie tra Enti locali e Professionisti per migliorare i servizi alla comunità
DESCRIPTION:
URL:https://odcec.ct.it/dettaglio-evento/pnnr-sinergie-tra-enti-locali-e-professionisti-per-migliorare-i-servizi-alla-comunit/
CATEGORIES:Eventi FPC
END:VEVENT
BEGIN:VEVENT
DTSTART;TZID=Europe/Rome:20221212T090000
DTEND;TZID=Europe/Rome:20221212T140000
DTSTAMP:20260423T035847
CREATED:20240729T101254Z
LAST-MODIFIED:20241119T164712Z
UID:40263-1670835600-1670853600@odcec.ct.it
SUMMARY:Corso Revisori Enti Locali 2022 - LE SOCIETÀ PUBBLICHE - GOVERNACE - OPERAZIONI STRAORDINARIE LA CRISI DI IMPRESA ED IL NUOVO RUOLO NEL PNRR
DESCRIPTION:
URL:https://odcec.ct.it/dettaglio-evento/corso-revisori-enti-locali-2022-le-societ-pubbliche-governace-operazioni-straordinarie-la-crisi-di-impresa-ed-il-nuovo-ruolo-nel-pnrr/
CATEGORIES:Eventi FPC
END:VEVENT
BEGIN:VEVENT
DTSTART;TZID=Europe/Rome:20221213T090000
DTEND;TZID=Europe/Rome:20221213T140000
DTSTAMP:20260423T035847
CREATED:20240729T101254Z
LAST-MODIFIED:20241119T164712Z
UID:40264-1670922000-1670940000@odcec.ct.it
SUMMARY:Corso Revisori Enti Locali 2022 - LE SOCIETÀ PUBBLICHE - GOVERNACE - OPERAZIONI STRAORDINARIE LA CRISI DI IMPRESA ED IL NUOVO RUOLO NEL PNRR
DESCRIPTION:
URL:https://odcec.ct.it/dettaglio-evento/corso-revisori-enti-locali-2022-le-societ-pubbliche-governace-operazioni-straordinarie-la-crisi-di-impresa-ed-il-nuovo-ruolo-nel-pnrr/
CATEGORIES:Eventi FPC
END:VEVENT
BEGIN:VEVENT
DTSTART;TZID=Europe/Rome:20221215T150000
DTEND;TZID=Europe/Rome:20221215T180000
DTSTAMP:20260423T035847
CREATED:20240729T101254Z
LAST-MODIFIED:20241119T164712Z
UID:40265-1671116400-1671127200@odcec.ct.it
SUMMARY:Novità in Materia di Crisi d'Impresa
DESCRIPTION:
URL:https://odcec.ct.it/dettaglio-evento/novit-in-materia-di-crisi-dimpresa/
CATEGORIES:Eventi FPC
END:VEVENT
BEGIN:VEVENT
DTSTART;TZID=Europe/Rome:20221217T100000
DTEND;TZID=Europe/Rome:20221217T130000
DTSTAMP:20260423T035847
CREATED:20240729T101254Z
LAST-MODIFIED:20241119T164712Z
UID:40266-1671271200-1671282000@odcec.ct.it
SUMMARY:BONUS EDILIZI\, DOPO IL DECRETO AIUTI QUATER
DESCRIPTION:
URL:https://odcec.ct.it/dettaglio-evento/bonus-edilizi-dopo-il-decreto-aiuti-quater/
CATEGORIES:Eventi FPC
END:VEVENT
BEGIN:VEVENT
DTSTART;TZID=Europe/Rome:20221219T090000
DTEND;TZID=Europe/Rome:20221219T140000
DTSTAMP:20260423T035847
CREATED:20240729T101255Z
LAST-MODIFIED:20241119T164712Z
UID:40267-1671440400-1671458400@odcec.ct.it
SUMMARY:PNRR:PROFESSIONISTI A CONFRONTO. OPPORTUNITA'\, CRITICITA' E POSSIBILI SOLUZIONI
DESCRIPTION:
URL:https://odcec.ct.it/dettaglio-evento/pnrrprofessionisti-a-confronto-opportunita-criticita-e-possibili-soluzioni/
CATEGORIES:Eventi FPC
END:VEVENT
BEGIN:VEVENT
DTSTART;TZID=Europe/Rome:20221221T153000
DTEND;TZID=Europe/Rome:20221221T183000
DTSTAMP:20260423T035847
CREATED:20240729T101255Z
LAST-MODIFIED:20241119T164712Z
UID:40268-1671636600-1671647400@odcec.ct.it
SUMMARY:CURATORE E COMMISSARIO NEL CODICE DELLA CRISI D'IMPRESA E DELL'INSOLVENZA
DESCRIPTION:
URL:https://odcec.ct.it/dettaglio-evento/curatore-e-commissario-nel-codice-della-crisi-dimpresa-e-dellinsolvenza/
CATEGORIES:Eventi FPC
END:VEVENT
BEGIN:VEVENT
DTSTART;TZID=Europe/Rome:20221227T150000
DTEND;TZID=Europe/Rome:20221227T190000
DTSTAMP:20260423T035847
CREATED:20240729T101255Z
LAST-MODIFIED:20241119T164712Z
UID:40269-1672153200-1672167600@odcec.ct.it
SUMMARY:CORSO COACHING E SOFT SKILL - ANNO 2022/2023
DESCRIPTION:
URL:https://odcec.ct.it/dettaglio-evento/corso-coaching-e-soft-skill-anno-20222023/
CATEGORIES:Eventi FPC
END:VEVENT
BEGIN:VEVENT
DTSTART;TZID=Europe/Rome:20221228T090000
DTEND;TZID=Europe/Rome:20221228T180000
DTSTAMP:20260423T035847
CREATED:20240729T101255Z
LAST-MODIFIED:20241119T164712Z
UID:40270-1672218000-1672250400@odcec.ct.it
SUMMARY:GIORNATA DI AGGIORNAMENTO IN AULA - REVISORI LEGALI 2022
DESCRIPTION:
URL:https://odcec.ct.it/dettaglio-evento/giornata-di-aggiornamento-in-aula-revisori-legali-2022/
CATEGORIES:Eventi FPC
END:VEVENT
BEGIN:VEVENT
DTSTART;TZID=Europe/Rome:20230110T153000
DTEND;TZID=Europe/Rome:20230110T183000
DTSTAMP:20260423T035847
CREATED:20240729T101255Z
LAST-MODIFIED:20241119T164712Z
UID:40271-1673364600-1673375400@odcec.ct.it
SUMMARY:CURATORE E COMMISSARIO NEL CODICE DELLA CRISI D'IMPRESA E DELL'INSOLVENZA
DESCRIPTION:
URL:https://odcec.ct.it/dettaglio-evento/curatore-e-commissario-nel-codice-della-crisi-dimpresa-e-dellinsolvenza/
CATEGORIES:Eventi FPC
END:VEVENT
BEGIN:VEVENT
DTSTART;TZID=Europe/Rome:20230113T090000
DTEND;TZID=Europe/Rome:20230113T130000
DTSTAMP:20260423T035847
CREATED:20240729T101255Z
LAST-MODIFIED:20241119T164712Z
UID:40272-1673600400-1673614800@odcec.ct.it
SUMMARY:Antiriciclaggio - Procedure operative per gli studi professionali
DESCRIPTION:
URL:https://odcec.ct.it/dettaglio-evento/antiriciclaggio-procedure-operative-per-gli-studi-professionali/
CATEGORIES:Eventi FPC
END:VEVENT
BEGIN:VEVENT
DTSTART;TZID=Europe/Rome:20230127T153000
DTEND;TZID=Europe/Rome:20230127T183000
DTSTAMP:20260423T035847
CREATED:20240729T101255Z
LAST-MODIFIED:20241119T164712Z
UID:40273-1674833400-1674844200@odcec.ct.it
SUMMARY:L'ANTIRICICLAGGIO NEGLI STUDI PROFESSIONALI
DESCRIPTION:
URL:https://odcec.ct.it/dettaglio-evento/lantiriciclaggio-negli-studi-professionali/
CATEGORIES:Eventi FPC
END:VEVENT
BEGIN:VEVENT
DTSTART;TZID=Europe/Rome:20230128T090000
DTEND;TZID=Europe/Rome:20230128T130000
DTSTAMP:20260423T035847
CREATED:20240729T101255Z
LAST-MODIFIED:20241119T164712Z
UID:40274-1674896400-1674910800@odcec.ct.it
SUMMARY:FORMAZIONE CONTINUA AZIENDALE PER AUMENTARE LA COMPETITIVITA' E RISPONDERE AI CAMBIAMENTI
DESCRIPTION:
URL:https://odcec.ct.it/dettaglio-evento/formazione-continua-aziendale-per-aumentare-la-competitivita-e-rispondere-ai-cambiamenti/
CATEGORIES:Eventi FPC
END:VEVENT
BEGIN:VEVENT
DTSTART;TZID=Europe/Rome:20230131T090000
DTEND;TZID=Europe/Rome:20230131T130000
DTSTAMP:20260423T035847
CREATED:20240729T101255Z
LAST-MODIFIED:20241119T164712Z
UID:40275-1675155600-1675170000@odcec.ct.it
SUMMARY:Legge di stabilità e Decreto Milleproroghe
DESCRIPTION:
URL:https://odcec.ct.it/dettaglio-evento/legge-di-stabilit-e-decreto-milleproroghe/
CATEGORIES:Eventi FPC
END:VEVENT
BEGIN:VEVENT
DTSTART;TZID=Europe/Rome:20230207T090000
DTEND;TZID=Europe/Rome:20230207T130000
DTSTAMP:20260423T035847
CREATED:20240729T101255Z
LAST-MODIFIED:20241119T164712Z
UID:40276-1675760400-1675774800@odcec.ct.it
SUMMARY:LE NOVITA' DELLA LEGGE DI BILANCIO 2023
DESCRIPTION:
URL:https://odcec.ct.it/dettaglio-evento/le-novita-della-legge-di-bilancio-2023/
CATEGORIES:Eventi FPC
END:VEVENT
BEGIN:VEVENT
DTSTART;TZID=Europe/Rome:20230208T153000
DTEND;TZID=Europe/Rome:20230208T183000
DTSTAMP:20260423T035847
CREATED:20240729T101255Z
LAST-MODIFIED:20241119T164712Z
UID:40277-1675870200-1675881000@odcec.ct.it
SUMMARY:CURATORE E COMMISSARIO NEL CODICE DELLA CRISI D'IMPRESA E DELL'INSOLVENZA
DESCRIPTION:
URL:https://odcec.ct.it/dettaglio-evento/curatore-e-commissario-nel-codice-della-crisi-dimpresa-e-dellinsolvenza/
CATEGORIES:Eventi FPC
END:VEVENT
BEGIN:VEVENT
DTSTART;TZID=Europe/Rome:20230220T093000
DTEND;TZID=Europe/Rome:20230220T113000
DTSTAMP:20260423T035847
CREATED:20240729T101255Z
LAST-MODIFIED:20241119T164712Z
UID:40278-1676885400-1676892600@odcec.ct.it
SUMMARY:UTILIZZO DEI SERVIZI TELEMATICI - Attivazione deleghe intermediari
DESCRIPTION:
URL:https://odcec.ct.it/dettaglio-evento/utilizzo-dei-servizi-telematici-attivazione-deleghe-intermediari/
CATEGORIES:Eventi FPC
END:VEVENT
BEGIN:VEVENT
DTSTART;TZID=Europe/Rome:20230303T150000
DTEND;TZID=Europe/Rome:20230303T190000
DTSTAMP:20260423T035847
CREATED:20240729T101255Z
LAST-MODIFIED:20241119T164712Z
UID:40279-1677855600-1677870000@odcec.ct.it
SUMMARY:IL CONSIGLIO INCONTRA GLI ISCRITTI
DESCRIPTION:
URL:https://odcec.ct.it/dettaglio-evento/il-consiglio-incontra-gli-iscritti/
CATEGORIES:Eventi FPC
END:VEVENT
BEGIN:VEVENT
DTSTART;TZID=Europe/Rome:20230310T150000
DTEND;TZID=Europe/Rome:20230310T180000
DTSTAMP:20260423T035847
CREATED:20240729T101255Z
LAST-MODIFIED:20241119T164712Z
UID:40280-1678460400-1678471200@odcec.ct.it
SUMMARY:La gestione ed il controllo della Tesoreria nel rapporto tra banca e impresa
DESCRIPTION:
URL:https://odcec.ct.it/dettaglio-evento/la-gestione-ed-il-controllo-della-tesoreria-nel-rapporto-tra-banca-e-impresa/
CATEGORIES:Eventi FPC
END:VEVENT
END:VCALENDAR