BEGIN:VCALENDAR
VERSION:2.0
PRODID:-//ODCEC Catania - ECPv6.8.1//NONSGML v1.0//EN
CALSCALE:GREGORIAN
METHOD:PUBLISH
X-ORIGINAL-URL:https://odcec.ct.it
X-WR-CALDESC:Eventi per ODCEC Catania
REFRESH-INTERVAL;VALUE=DURATION:PT1H
X-Robots-Tag:noindex
X-PUBLISHED-TTL:PT1H
BEGIN:VTIMEZONE
TZID:Europe/Rome
BEGIN:DAYLIGHT
TZOFFSETFROM:+0100
TZOFFSETTO:+0200
TZNAME:CEST
DTSTART:20240331T010000
END:DAYLIGHT
BEGIN:STANDARD
TZOFFSETFROM:+0200
TZOFFSETTO:+0100
TZNAME:CET
DTSTART:20241027T010000
END:STANDARD
END:VTIMEZONE
BEGIN:VEVENT
DTSTART;TZID=Europe/Rome:20241107T150000
DTEND;TZID=Europe/Rome:20241107T173000
DTSTAMP:20260421T154734
CREATED:20241107T101151Z
LAST-MODIFIED:20241119T164716Z
UID:118098-1730991600-1731000600@odcec.ct.it
SUMMARY:REVISIONE DEL SISTEMA SANZIONATORIO TRIBUTARIO E DELL'ISTITUTO DELL'ACCERTAMENTO CON ADESIONE
DESCRIPTION:
URL:https://odcec.ct.it/dettaglio-evento/revisione-del-sistema-sanzionatorio-tributario-e-dellistituto-dellaccertamento-con-adesione/
CATEGORIES:Eventi FPC
END:VEVENT
BEGIN:VEVENT
DTSTART;TZID=Europe/Rome:20241108T090000
DTEND;TZID=Europe/Rome:20241108T130000
DTSTAMP:20260421T154734
CREATED:20241107T101151Z
LAST-MODIFIED:20241119T164716Z
UID:118099-1731056400-1731070800@odcec.ct.it
SUMMARY:Adeguati Assetti. Aspetti organizzativi\, amministrativi e contabili: opportunità e criticità
DESCRIPTION:
URL:https://odcec.ct.it/dettaglio-evento/adeguati-assetti-aspetti-organizzativi-amministrativi-e-contabili-opportunit-e-criticit/
CATEGORIES:Eventi FPC
END:VEVENT
BEGIN:VEVENT
DTSTART;TZID=Europe/Rome:20241114T093000
DTEND;TZID=Europe/Rome:20241114T123000
DTSTAMP:20260421T154734
CREATED:20241107T101151Z
LAST-MODIFIED:20241119T164716Z
UID:118100-1731576600-1731587400@odcec.ct.it
SUMMARY:LA COMPLIANCE DEGLI STUDI IN MATERIA DI ANTIRICICLAGGIO E IL TRATTAMENTO DEI DATI IN MATERIA DI PRIVACY
DESCRIPTION:
URL:https://odcec.ct.it/dettaglio-evento/la-compliance-degli-studi-in-materia-di-antiriciclaggio-e-il-trattamento-dei-dati-in-materia-di-privacy/
CATEGORIES:Eventi FPC
END:VEVENT
BEGIN:VEVENT
DTSTART;TZID=Europe/Rome:20241114T153000
DTEND;TZID=Europe/Rome:20241114T193000
DTSTAMP:20260421T154734
CREATED:20241107T101151Z
LAST-MODIFIED:20241119T164716Z
UID:118101-1731598200-1731612600@odcec.ct.it
SUMMARY:LA RESPONSABILITA' DEGLI AMMINISTRATORI NELLA CRISI DI IMPRESA
DESCRIPTION:
URL:https://odcec.ct.it/dettaglio-evento/la-responsabilita-degli-amministratori-nella-crisi-di-impresa/
CATEGORIES:Eventi FPC
END:VEVENT
BEGIN:VEVENT
DTSTART;TZID=Europe/Rome:20241121T150000
DTEND;TZID=Europe/Rome:20241121T173000
DTSTAMP:20260421T154734
CREATED:20241115T111442Z
LAST-MODIFIED:20241119T164716Z
UID:118202-1732201200-1732210200@odcec.ct.it
SUMMARY:APPLICAZIONE PRATICA DELL'INTELLIGENZA ARTIFICIALE NELLO STUDIO DEL COMMERCIALISTA
DESCRIPTION:
URL:https://odcec.ct.it/dettaglio-evento/applicazione-pratica-dellintelligenza-artificiale-nello-studio-del-commercialista/
CATEGORIES:Eventi FPC
END:VEVENT
BEGIN:VEVENT
DTSTART;TZID=Europe/Rome:20241125T090000
DTEND;TZID=Europe/Rome:20241125T130000
DTSTAMP:20260421T154734
CREATED:20241115T111442Z
LAST-MODIFIED:20241119T164716Z
UID:118203-1732525200-1732539600@odcec.ct.it
SUMMARY:IL SISTEMA DI VALUTAZIONE DELLA PERFORMANCE E IL RUOLO DELL'ORGANISMO INTERNO DI VALUTAZIONE
DESCRIPTION:
URL:https://odcec.ct.it/dettaglio-evento/il-sistema-di-valutazione-della-performance-e-il-ruolo-dellorganismo-interno-di-valutazione/
CATEGORIES:Eventi FPC
END:VEVENT
BEGIN:VEVENT
DTSTART;TZID=Europe/Rome:20241126T090000
DTEND;TZID=Europe/Rome:20241126T130000
DTSTAMP:20260421T154734
CREATED:20241115T111442Z
LAST-MODIFIED:20241119T164716Z
UID:118204-1732611600-1732626000@odcec.ct.it
SUMMARY:IL SISTEMA DI VALUTAZIONE DELLA PERFORMANCE E IL RUOLO DELL'ORGANISMO INTERNO DI VALUTAZIONE
DESCRIPTION:
URL:https://odcec.ct.it/dettaglio-evento/il-sistema-di-valutazione-della-performance-e-il-ruolo-dellorganismo-interno-di-valutazione/
CATEGORIES:Eventi FPC
END:VEVENT
BEGIN:VEVENT
DTSTART;TZID=Europe/Rome:20241127T090000
DTEND;TZID=Europe/Rome:20241127T130000
DTSTAMP:20260421T154734
CREATED:20241115T111442Z
LAST-MODIFIED:20241119T164717Z
UID:118205-1732698000-1732712400@odcec.ct.it
SUMMARY:IL SISTEMA DI VALUTAZIONE DELLA PERFORMANCE E IL RUOLO DELL'ORGANISMO INTERNO DI VALUTAZIONE
DESCRIPTION:
URL:https://odcec.ct.it/dettaglio-evento/il-sistema-di-valutazione-della-performance-e-il-ruolo-dellorganismo-interno-di-valutazione/
CATEGORIES:Eventi FPC
END:VEVENT
BEGIN:VEVENT
DTSTART;TZID=Europe/Rome:20241128T090000
DTEND;TZID=Europe/Rome:20241128T130000
DTSTAMP:20260421T154734
CREATED:20241115T111442Z
LAST-MODIFIED:20241119T164717Z
UID:118206-1732784400-1732798800@odcec.ct.it
SUMMARY:IL SISTEMA DI VALUTAZIONE DELLA PERFORMANCE E IL RUOLO DELL'ORGANISMO INTERNO DI VALUTAZIONE
DESCRIPTION:
URL:https://odcec.ct.it/dettaglio-evento/il-sistema-di-valutazione-della-performance-e-il-ruolo-dellorganismo-interno-di-valutazione/
CATEGORIES:Eventi FPC
END:VEVENT
BEGIN:VEVENT
DTSTART;TZID=Europe/Rome:20241129T143000
DTEND;TZID=Europe/Rome:20241129T193000
DTSTAMP:20260421T154734
CREATED:20241107T101151Z
LAST-MODIFIED:20241119T164717Z
UID:118102-1732890600-1732908600@odcec.ct.it
SUMMARY:CORSO REVISORI LEGALI 2024
DESCRIPTION:
URL:https://odcec.ct.it/dettaglio-evento/corso-revisori-legali-2024/
CATEGORIES:Eventi FPC
END:VEVENT
BEGIN:VEVENT
DTSTART;TZID=Europe/Rome:20241130T083000
DTEND;TZID=Europe/Rome:20241130T133000
DTSTAMP:20260421T154734
CREATED:20241107T101151Z
LAST-MODIFIED:20241119T164717Z
UID:118103-1732955400-1732973400@odcec.ct.it
SUMMARY:CORSO REVISORI LEGALI 2024
DESCRIPTION:
URL:https://odcec.ct.it/dettaglio-evento/corso-revisori-legali-2024/
CATEGORIES:Eventi FPC
END:VEVENT
END:VCALENDAR