BEGIN:VCALENDAR
VERSION:2.0
PRODID:-//ODCEC Catania - ECPv6.8.1//NONSGML v1.0//EN
CALSCALE:GREGORIAN
METHOD:PUBLISH
X-WR-CALNAME:ODCEC Catania
X-ORIGINAL-URL:https://odcec.ct.it
X-WR-CALDESC:Eventi per ODCEC Catania
REFRESH-INTERVAL;VALUE=DURATION:PT1H
X-Robots-Tag:noindex
X-PUBLISHED-TTL:PT1H
BEGIN:VTIMEZONE
TZID:Europe/Rome
BEGIN:DAYLIGHT
TZOFFSETFROM:+0100
TZOFFSETTO:+0200
TZNAME:CEST
DTSTART:20230326T010000
END:DAYLIGHT
BEGIN:STANDARD
TZOFFSETFROM:+0200
TZOFFSETTO:+0100
TZNAME:CET
DTSTART:20231029T010000
END:STANDARD
END:VTIMEZONE
BEGIN:VEVENT
DTSTART;TZID=Europe/Rome:20231106T090000
DTEND;TZID=Europe/Rome:20231106T130000
DTSTAMP:20260422T085659
CREATED:20240729T101258Z
LAST-MODIFIED:20241119T164714Z
UID:40337-1699261200-1699275600@odcec.ct.it
SUMMARY:CORSO SUL TERZO SETTORE E RIFORMA SPORT
DESCRIPTION:
URL:https://odcec.ct.it/dettaglio-evento/corso-sul-terzo-settore-e-riforma-sport/
CATEGORIES:Eventi FPC
END:VEVENT
BEGIN:VEVENT
DTSTART;TZID=Europe/Rome:20231109T153000
DTEND;TZID=Europe/Rome:20231109T183000
DTSTAMP:20260422T085659
CREATED:20240729T101258Z
LAST-MODIFIED:20241119T164714Z
UID:40338-1699543800-1699554600@odcec.ct.it
SUMMARY:Antiriciclaggio e Titolare Effettivo: adempimenti e chiarimenti
DESCRIPTION:
URL:https://odcec.ct.it/dettaglio-evento/antiriciclaggio-e-titolare-effettivo-adempimenti-e-chiarimenti/
CATEGORIES:Eventi FPC
END:VEVENT
BEGIN:VEVENT
DTSTART;TZID=Europe/Rome:20231110T153000
DTEND;TZID=Europe/Rome:20231110T193000
DTSTAMP:20260422T085659
CREATED:20240729T101258Z
LAST-MODIFIED:20241119T164714Z
UID:40339-1699630200-1699644600@odcec.ct.it
SUMMARY:I BENEFICI SOCIO-ECONOMICI SUL TERRITORIO ED I MODELLI PER VALUTARLI
DESCRIPTION:
URL:https://odcec.ct.it/dettaglio-evento/i-benefici-socioeconomici-sul-territorio-ed-i-modelli-per-valutarli/
CATEGORIES:Eventi FPC
END:VEVENT
BEGIN:VEVENT
DTSTART;TZID=Europe/Rome:20231111T093000
DTEND;TZID=Europe/Rome:20231111T133000
DTSTAMP:20260422T085659
CREATED:20240729T101258Z
LAST-MODIFIED:20241119T164714Z
UID:40340-1699695000-1699709400@odcec.ct.it
SUMMARY:Corso Revisione Legale 2023
DESCRIPTION:
URL:https://odcec.ct.it/dettaglio-evento/corso-revisione-legale-2023/
CATEGORIES:Eventi FPC
END:VEVENT
BEGIN:VEVENT
DTSTART;TZID=Europe/Rome:20231113T150000
DTEND;TZID=Europe/Rome:20231113T190000
DTSTAMP:20260422T085659
CREATED:20240729T101258Z
LAST-MODIFIED:20241119T164714Z
UID:40341-1699887600-1699902000@odcec.ct.it
SUMMARY:LE RESPONSABILITA' CIVILI E PENALI DI AMMINISTRATORI E SINDACI NEL NUOVO CODICE DELLA CRISI DI IMPRESA E DELL'INSOLVENZA
DESCRIPTION:
URL:https://odcec.ct.it/dettaglio-evento/le-responsabilita-civili-e-penali-di-amministratori-e-sindaci-nel-nuovo-codice-della-crisi-di-impresa-e-dellinsolvenza/
CATEGORIES:Eventi FPC
END:VEVENT
BEGIN:VEVENT
DTSTART;TZID=Europe/Rome:20231114T093000
DTEND;TZID=Europe/Rome:20231114T123000
DTSTAMP:20260422T085659
CREATED:20240729T101258Z
LAST-MODIFIED:20241119T164714Z
UID:40342-1699954200-1699965000@odcec.ct.it
SUMMARY:La certificazione della parità di genere nella L. 231/01
DESCRIPTION:
URL:https://odcec.ct.it/dettaglio-evento/la-certificazione-della-parit-di-genere-nella-l-23101/
CATEGORIES:Eventi FPC
END:VEVENT
BEGIN:VEVENT
DTSTART;TZID=Europe/Rome:20231117T153000
DTEND;TZID=Europe/Rome:20231117T193000
DTSTAMP:20260422T085659
CREATED:20240729T101258Z
LAST-MODIFIED:20241119T164714Z
UID:40343-1700235000-1700249400@odcec.ct.it
SUMMARY:Corso Revisione Legale 2023
DESCRIPTION:
URL:https://odcec.ct.it/dettaglio-evento/corso-revisione-legale-2023/
CATEGORIES:Eventi FPC
END:VEVENT
BEGIN:VEVENT
DTSTART;TZID=Europe/Rome:20231118T093000
DTEND;TZID=Europe/Rome:20231118T133000
DTSTAMP:20260422T085659
CREATED:20240729T101259Z
LAST-MODIFIED:20241119T164714Z
UID:40344-1700299800-1700314200@odcec.ct.it
SUMMARY:Corso Revisione Legale 2023
DESCRIPTION:
URL:https://odcec.ct.it/dettaglio-evento/corso-revisione-legale-2023/
CATEGORIES:Eventi FPC
END:VEVENT
BEGIN:VEVENT
DTSTART;TZID=Europe/Rome:20231121T153000
DTEND;TZID=Europe/Rome:20231121T183000
DTSTAMP:20260422T085659
CREATED:20240729T101259Z
LAST-MODIFIED:20241119T164714Z
UID:40345-1700580600-1700591400@odcec.ct.it
SUMMARY:Ricominciare… Professioniste a confronto\, le difficoltà e gli aiuti.
DESCRIPTION:
URL:https://odcec.ct.it/dettaglio-evento/ricominciare-professioniste-a-confronto-le-difficolt-e-gli-aiuti/
CATEGORIES:Eventi FPC
END:VEVENT
BEGIN:VEVENT
DTSTART;TZID=Europe/Rome:20231124T093000
DTEND;TZID=Europe/Rome:20231124T183000
DTSTAMP:20260422T085659
CREATED:20240729T101259Z
LAST-MODIFIED:20241119T164714Z
UID:40346-1700818200-1700850600@odcec.ct.it
SUMMARY:L'ESECUZIONE FORZATA TRIBUTARIA
DESCRIPTION:
URL:https://odcec.ct.it/dettaglio-evento/lesecuzione-forzata-tributaria/
CATEGORIES:Eventi FPC
END:VEVENT
BEGIN:VEVENT
DTSTART;TZID=Europe/Rome:20231124T153000
DTEND;TZID=Europe/Rome:20231124T193000
DTSTAMP:20260422T085659
CREATED:20240729T101259Z
LAST-MODIFIED:20241119T164714Z
UID:40347-1700839800-1700854200@odcec.ct.it
SUMMARY:Corso Revisione Legale 2023
DESCRIPTION:
URL:https://odcec.ct.it/dettaglio-evento/corso-revisione-legale-2023/
CATEGORIES:Eventi FPC
END:VEVENT
BEGIN:VEVENT
DTSTART;TZID=Europe/Rome:20231125T090000
DTEND;TZID=Europe/Rome:20231125T130000
DTSTAMP:20260422T085659
CREATED:20240729T101259Z
LAST-MODIFIED:20241119T164714Z
UID:40348-1700902800-1700917200@odcec.ct.it
SUMMARY:L'ESECUZIONE FORZATA TRIBUTARIA
DESCRIPTION:
URL:https://odcec.ct.it/dettaglio-evento/lesecuzione-forzata-tributaria/
CATEGORIES:Eventi FPC
END:VEVENT
BEGIN:VEVENT
DTSTART;TZID=Europe/Rome:20231125T093000
DTEND;TZID=Europe/Rome:20231125T133000
DTSTAMP:20260422T085659
CREATED:20240729T101259Z
LAST-MODIFIED:20241119T164714Z
UID:40349-1700904600-1700919000@odcec.ct.it
SUMMARY:Corso Revisione Legale 2023
DESCRIPTION:
URL:https://odcec.ct.it/dettaglio-evento/corso-revisione-legale-2023/
CATEGORIES:Eventi FPC
END:VEVENT
BEGIN:VEVENT
DTSTART;TZID=Europe/Rome:20231127T153000
DTEND;TZID=Europe/Rome:20231127T193000
DTSTAMP:20260422T085659
CREATED:20240729T101259Z
LAST-MODIFIED:20241119T164714Z
UID:40350-1701099000-1701113400@odcec.ct.it
SUMMARY:CULTURA IMPRENDITORIALE AI TEMPI DEL CODICE DELLA CRISI
DESCRIPTION:
URL:https://odcec.ct.it/dettaglio-evento/cultura-imprenditoriale-ai-tempi-del-codice-della-crisi/
CATEGORIES:Eventi FPC
END:VEVENT
END:VCALENDAR