BEGIN:VCALENDAR
VERSION:2.0
PRODID:-//ODCEC Catania - ECPv6.8.1//NONSGML v1.0//EN
CALSCALE:GREGORIAN
METHOD:PUBLISH
X-WR-CALNAME:ODCEC Catania
X-ORIGINAL-URL:https://odcec.ct.it
X-WR-CALDESC:Eventi per ODCEC Catania
REFRESH-INTERVAL;VALUE=DURATION:PT1H
X-Robots-Tag:noindex
X-PUBLISHED-TTL:PT1H
BEGIN:VTIMEZONE
TZID:Europe/Rome
BEGIN:DAYLIGHT
TZOFFSETFROM:+0100
TZOFFSETTO:+0200
TZNAME:CEST
DTSTART:20230326T010000
END:DAYLIGHT
BEGIN:STANDARD
TZOFFSETFROM:+0200
TZOFFSETTO:+0100
TZNAME:CET
DTSTART:20231029T010000
END:STANDARD
END:VTIMEZONE
BEGIN:VEVENT
DTSTART;TZID=Europe/Rome:20231002T093000
DTEND;TZID=Europe/Rome:20231002T113000
DTSTAMP:20260422T102205
CREATED:20240729T101257Z
LAST-MODIFIED:20241119T164713Z
UID:40324-1696239000-1696246200@odcec.ct.it
SUMMARY:Investimenti sostenibili 4.0 - Decreto ZES Unica
DESCRIPTION:
URL:https://odcec.ct.it/dettaglio-evento/investimenti-sostenibili-40-decreto-zes-unica/
CATEGORIES:Eventi FPC
END:VEVENT
BEGIN:VEVENT
DTSTART;TZID=Europe/Rome:20231003T150000
DTEND;TZID=Europe/Rome:20231003T190000
DTSTAMP:20260422T102205
CREATED:20240729T101258Z
LAST-MODIFIED:20241119T164713Z
UID:40325-1696345200-1696359600@odcec.ct.it
SUMMARY:Corso di formazione ed aggiornamento per Gestori della crisi da sovraindebitamento. Ai sensi dell'art. 4 comma 6 del D.M. n. 202 del 24/09/2014
DESCRIPTION:
URL:https://odcec.ct.it/dettaglio-evento/corso-di-formazione-ed-aggiornamento-per-gestori-della-crisi-da-sovraindebitamento-ai-sensi-dellart-4-comma-6-del-dm-n-202-del-24092014/
CATEGORIES:Eventi FPC
END:VEVENT
BEGIN:VEVENT
DTSTART;TZID=Europe/Rome:20231005T150000
DTEND;TZID=Europe/Rome:20231005T190000
DTSTAMP:20260422T102205
CREATED:20240729T101258Z
LAST-MODIFIED:20241119T164713Z
UID:40326-1696518000-1696532400@odcec.ct.it
SUMMARY:Corso di formazione ed aggiornamento per Gestori della crisi da sovraindebitamento. Ai sensi dell'art. 4 comma 6 del D.M. n. 202 del 24/09/2014
DESCRIPTION:
URL:https://odcec.ct.it/dettaglio-evento/corso-di-formazione-ed-aggiornamento-per-gestori-della-crisi-da-sovraindebitamento-ai-sensi-dellart-4-comma-6-del-dm-n-202-del-24092014/
CATEGORIES:Eventi FPC
END:VEVENT
BEGIN:VEVENT
DTSTART;TZID=Europe/Rome:20231006T090000
DTEND;TZID=Europe/Rome:20231006T130000
DTSTAMP:20260422T102205
CREATED:20240729T101258Z
LAST-MODIFIED:20241119T164713Z
UID:40327-1696582800-1696597200@odcec.ct.it
SUMMARY:CORSO SUL TERZO SETTORE E RIFORMA SPORT
DESCRIPTION:
URL:https://odcec.ct.it/dettaglio-evento/corso-sul-terzo-settore-e-riforma-sport/
CATEGORIES:Eventi FPC
END:VEVENT
BEGIN:VEVENT
DTSTART;TZID=Europe/Rome:20231010T150000
DTEND;TZID=Europe/Rome:20231010T190000
DTSTAMP:20260422T102205
CREATED:20240729T101258Z
LAST-MODIFIED:20241119T164713Z
UID:40328-1696950000-1696964400@odcec.ct.it
SUMMARY:Corso di formazione ed aggiornamento per Gestori della crisi da sovraindebitamento. Ai sensi dell'art. 4 comma 6 del D.M. n. 202 del 24/09/2014
DESCRIPTION:
URL:https://odcec.ct.it/dettaglio-evento/corso-di-formazione-ed-aggiornamento-per-gestori-della-crisi-da-sovraindebitamento-ai-sensi-dellart-4-comma-6-del-dm-n-202-del-24092014/
CATEGORIES:Eventi FPC
END:VEVENT
BEGIN:VEVENT
DTSTART;TZID=Europe/Rome:20231012T150000
DTEND;TZID=Europe/Rome:20231012T190000
DTSTAMP:20260422T102205
CREATED:20240729T101258Z
LAST-MODIFIED:20241119T164714Z
UID:40329-1697122800-1697137200@odcec.ct.it
SUMMARY:Corso di formazione ed aggiornamento per Gestori della crisi da sovraindebitamento. Ai sensi dell'art. 4 comma 6 del D.M. n. 202 del 24/09/2014
DESCRIPTION:
URL:https://odcec.ct.it/dettaglio-evento/corso-di-formazione-ed-aggiornamento-per-gestori-della-crisi-da-sovraindebitamento-ai-sensi-dellart-4-comma-6-del-dm-n-202-del-24092014/
CATEGORIES:Eventi FPC
END:VEVENT
BEGIN:VEVENT
DTSTART;TZID=Europe/Rome:20231013T090000
DTEND;TZID=Europe/Rome:20231013T130000
DTSTAMP:20260422T102205
CREATED:20240729T101258Z
LAST-MODIFIED:20241119T164714Z
UID:40330-1697187600-1697202000@odcec.ct.it
SUMMARY:CORSO SUL TERZO SETTORE E RIFORMA SPORT
DESCRIPTION:
URL:https://odcec.ct.it/dettaglio-evento/corso-sul-terzo-settore-e-riforma-sport/
CATEGORIES:Eventi FPC
END:VEVENT
BEGIN:VEVENT
DTSTART;TZID=Europe/Rome:20231017T150000
DTEND;TZID=Europe/Rome:20231017T190000
DTSTAMP:20260422T102205
CREATED:20240729T101258Z
LAST-MODIFIED:20241119T164714Z
UID:40331-1697554800-1697569200@odcec.ct.it
SUMMARY:Corso di formazione ed aggiornamento per Gestori della crisi da sovraindebitamento. Ai sensi dell'art. 4 comma 6 del D.M. n. 202 del 24/09/2014
DESCRIPTION:
URL:https://odcec.ct.it/dettaglio-evento/corso-di-formazione-ed-aggiornamento-per-gestori-della-crisi-da-sovraindebitamento-ai-sensi-dellart-4-comma-6-del-dm-n-202-del-24092014/
CATEGORIES:Eventi FPC
END:VEVENT
BEGIN:VEVENT
DTSTART;TZID=Europe/Rome:20231019T090000
DTEND;TZID=Europe/Rome:20231019T130000
DTSTAMP:20260422T102205
CREATED:20240729T101258Z
LAST-MODIFIED:20241119T164714Z
UID:40332-1697706000-1697720400@odcec.ct.it
SUMMARY:CORSO SUL TERZO SETTORE E RIFORMA SPORT
DESCRIPTION:
URL:https://odcec.ct.it/dettaglio-evento/corso-sul-terzo-settore-e-riforma-sport/
CATEGORIES:Eventi FPC
END:VEVENT
BEGIN:VEVENT
DTSTART;TZID=Europe/Rome:20231019T150000
DTEND;TZID=Europe/Rome:20231019T190000
DTSTAMP:20260422T102205
CREATED:20240729T101258Z
LAST-MODIFIED:20241119T164714Z
UID:40333-1697727600-1697742000@odcec.ct.it
SUMMARY:Corso di formazione ed aggiornamento per Gestori della crisi da sovraindebitamento. Ai sensi dell'art. 4 comma 6 del D.M. n. 202 del 24/09/2014
DESCRIPTION:
URL:https://odcec.ct.it/dettaglio-evento/corso-di-formazione-ed-aggiornamento-per-gestori-della-crisi-da-sovraindebitamento-ai-sensi-dellart-4-comma-6-del-dm-n-202-del-24092014/
CATEGORIES:Eventi FPC
END:VEVENT
BEGIN:VEVENT
DTSTART;TZID=Europe/Rome:20231026T090000
DTEND;TZID=Europe/Rome:20231026T130000
DTSTAMP:20260422T102205
CREATED:20240729T101258Z
LAST-MODIFIED:20241119T164714Z
UID:40334-1698310800-1698325200@odcec.ct.it
SUMMARY:CORSO SUL TERZO SETTORE E RIFORMA SPORT
DESCRIPTION:
URL:https://odcec.ct.it/dettaglio-evento/corso-sul-terzo-settore-e-riforma-sport/
CATEGORIES:Eventi FPC
END:VEVENT
BEGIN:VEVENT
DTSTART;TZID=Europe/Rome:20231031T090000
DTEND;TZID=Europe/Rome:20231031T140000
DTSTAMP:20260422T102205
CREATED:20240729T101258Z
LAST-MODIFIED:20241119T164714Z
UID:40335-1698742800-1698760800@odcec.ct.it
SUMMARY:LA PRIMA REVISIONE ORDINARIA DELLE PARTECIPAZIONI DOPO L'ENTRATA IN VIGORE DEL DLGS. N. 201/2022: VERIFICHE E CONTROLLI DEI REVISORI SUGLI ADEMPIMENTI DELL'ENTE LOCALE E DELLE SOCIETÀ PUBBLICHE
DESCRIPTION:
URL:https://odcec.ct.it/dettaglio-evento/la-prima-revisione-ordinaria-delle-partecipazioni-dopo-lentrata-in-vigore-del-dlgs-n-2012022-verifiche-e-controlli-dei-revisori-sugli-adempimenti-dellente-locale-e-delle-societ-pubbliche/
CATEGORIES:Eventi FPC
END:VEVENT
BEGIN:VEVENT
DTSTART;TZID=Europe/Rome:20231031T093000
DTEND;TZID=Europe/Rome:20231031T123000
DTSTAMP:20260422T102205
CREATED:20240729T101258Z
LAST-MODIFIED:20241119T164714Z
UID:40336-1698744600-1698755400@odcec.ct.it
SUMMARY:Le caratteristiche distintive della leadership al femminile
DESCRIPTION:
URL:https://odcec.ct.it/dettaglio-evento/le-caratteristiche-distintive-della-leadership-al-femminile/
CATEGORIES:Eventi FPC
END:VEVENT
END:VCALENDAR