BEGIN:VCALENDAR
VERSION:2.0
PRODID:-//ODCEC Catania - ECPv6.8.1//NONSGML v1.0//EN
CALSCALE:GREGORIAN
METHOD:PUBLISH
X-WR-CALNAME:ODCEC Catania
X-ORIGINAL-URL:https://odcec.ct.it
X-WR-CALDESC:Eventi per ODCEC Catania
REFRESH-INTERVAL;VALUE=DURATION:PT1H
X-Robots-Tag:noindex
X-PUBLISHED-TTL:PT1H
BEGIN:VTIMEZONE
TZID:Europe/Rome
BEGIN:DAYLIGHT
TZOFFSETFROM:+0100
TZOFFSETTO:+0200
TZNAME:CEST
DTSTART:20230326T010000
END:DAYLIGHT
BEGIN:STANDARD
TZOFFSETFROM:+0200
TZOFFSETTO:+0100
TZNAME:CET
DTSTART:20231029T010000
END:STANDARD
END:VTIMEZONE
BEGIN:VEVENT
DTSTART;TZID=Europe/Rome:20230505T090000
DTEND;TZID=Europe/Rome:20230505T130000
DTSTAMP:20260422T173449
CREATED:20240729T101256Z
LAST-MODIFIED:20241119T164712Z
UID:40291-1683277200-1683291600@odcec.ct.it
SUMMARY:APPRENDISTATO DI PRIMO LIVELLO E TIROCINI: OPPORTUNITA' PER LE AZIENDE E STRUMENTI DI CRESCITA
DESCRIPTION:
URL:https://odcec.ct.it/dettaglio-evento/apprendistato-di-primo-livello-e-tirocini-opportunita-per-le-aziende-e-strumenti-di-crescita/
CATEGORIES:Eventi FPC
END:VEVENT
BEGIN:VEVENT
DTSTART;TZID=Europe/Rome:20230509T153000
DTEND;TZID=Europe/Rome:20230509T193000
DTSTAMP:20260422T173449
CREATED:20240729T101256Z
LAST-MODIFIED:20241119T164712Z
UID:40292-1683646200-1683660600@odcec.ct.it
SUMMARY:CRISI D'IMPRESA E SINERGIE ISTITUZIONALI
DESCRIPTION:
URL:https://odcec.ct.it/dettaglio-evento/crisi-dimpresa-e-sinergie-istituzionali/
CATEGORIES:Eventi FPC
END:VEVENT
BEGIN:VEVENT
DTSTART;TZID=Europe/Rome:20230512T153000
DTEND;TZID=Europe/Rome:20230512T193000
DTSTAMP:20260422T173449
CREATED:20240729T101256Z
LAST-MODIFIED:20241119T164712Z
UID:40293-1683905400-1683919800@odcec.ct.it
SUMMARY:Esperto di monitoraggio\, rendicontazione e controllo delle risorse del PNRR.
DESCRIPTION:
URL:https://odcec.ct.it/dettaglio-evento/esperto-di-monitoraggio-rendicontazione-e-controllo-delle-risorse-del-pnrr/
CATEGORIES:Eventi FPC
END:VEVENT
BEGIN:VEVENT
DTSTART;TZID=Europe/Rome:20230515T153000
DTEND;TZID=Europe/Rome:20230515T193000
DTSTAMP:20260422T173449
CREATED:20240729T101256Z
LAST-MODIFIED:20241119T164712Z
UID:40294-1684164600-1684179000@odcec.ct.it
SUMMARY:Esperto di monitoraggio\, rendicontazione e controllo delle risorse del PNRR.
DESCRIPTION:
URL:https://odcec.ct.it/dettaglio-evento/esperto-di-monitoraggio-rendicontazione-e-controllo-delle-risorse-del-pnrr/
CATEGORIES:Eventi FPC
END:VEVENT
BEGIN:VEVENT
DTSTART;TZID=Europe/Rome:20230517T100000
DTEND;TZID=Europe/Rome:20230517T130000
DTSTAMP:20260422T173449
CREATED:20240729T101256Z
LAST-MODIFIED:20241119T164713Z
UID:40295-1684317600-1684328400@odcec.ct.it
SUMMARY:LE OPERAZIONI DI FUSIONE ED ACQUISIZIONI DI ATTIVITA' PROFESSIONALI. STP ED AGGREGAZIONI PROFESSIONALI
DESCRIPTION:
URL:https://odcec.ct.it/dettaglio-evento/le-operazioni-di-fusione-ed-acquisizioni-di-attivita-professionali-stp-ed-aggregazioni-professionali/
CATEGORIES:Eventi FPC
END:VEVENT
BEGIN:VEVENT
DTSTART;TZID=Europe/Rome:20230519T153000
DTEND;TZID=Europe/Rome:20230519T193000
DTSTAMP:20260422T173449
CREATED:20240729T101256Z
LAST-MODIFIED:20241119T164713Z
UID:40296-1684510200-1684524600@odcec.ct.it
SUMMARY:Esperto di monitoraggio\, rendicontazione e controllo delle risorse del PNRR.
DESCRIPTION:
URL:https://odcec.ct.it/dettaglio-evento/esperto-di-monitoraggio-rendicontazione-e-controllo-delle-risorse-del-pnrr/
CATEGORIES:Eventi FPC
END:VEVENT
BEGIN:VEVENT
DTSTART;TZID=Europe/Rome:20230520T093000
DTEND;TZID=Europe/Rome:20230520T133000
DTSTAMP:20260422T173449
CREATED:20240729T101256Z
LAST-MODIFIED:20241119T164713Z
UID:40297-1684575000-1684589400@odcec.ct.it
SUMMARY:Esperto di monitoraggio\, rendicontazione e controllo delle risorse del PNRR.
DESCRIPTION:
URL:https://odcec.ct.it/dettaglio-evento/esperto-di-monitoraggio-rendicontazione-e-controllo-delle-risorse-del-pnrr/
CATEGORIES:Eventi FPC
END:VEVENT
BEGIN:VEVENT
DTSTART;TZID=Europe/Rome:20230523T150000
DTEND;TZID=Europe/Rome:20230523T190000
DTSTAMP:20260422T173449
CREATED:20240729T101256Z
LAST-MODIFIED:20241119T164713Z
UID:40298-1684854000-1684868400@odcec.ct.it
SUMMARY:PASSAGGIO GENERAZIONALE E SOSTENIBILITA' NELLE IMPRESE FAMILIARI: APPUNTAMENTO CON IL FUTURO
DESCRIPTION:
URL:https://odcec.ct.it/dettaglio-evento/passaggio-generazionale-e-sostenibilita-nelle-imprese-familiari-appuntamento-con-il-futuro/
CATEGORIES:Eventi FPC
END:VEVENT
BEGIN:VEVENT
DTSTART;TZID=Europe/Rome:20230526T090000
DTEND;TZID=Europe/Rome:20230526T190000
DTSTAMP:20260422T173449
CREATED:20240729T101256Z
LAST-MODIFIED:20241119T164713Z
UID:40299-1685091600-1685127600@odcec.ct.it
SUMMARY:CORSO DI FORMAZIONE VALIDO PER L'ISCRIZIONE NELL'ELENCO DEI PROFESSIONISTI DELEGATI ALLE OPERAZIONI DI VENDITA NELLE ESECUZIONI FORZATE EX ART. 179 TER DISP. ATT.CPC
DESCRIPTION:
URL:https://odcec.ct.it/dettaglio-evento/corso-di-formazione-valido-per-liscrizione-nellelenco-dei-professionisti-delegati-alle-operazioni-di-vendita-nelle-esecuzioni-forzate-ex-art-179-ter-disp-attcpc/
CATEGORIES:Eventi FPC
END:VEVENT
BEGIN:VEVENT
DTSTART;TZID=Europe/Rome:20230526T153000
DTEND;TZID=Europe/Rome:20230526T193000
DTSTAMP:20260422T173449
CREATED:20240729T101256Z
LAST-MODIFIED:20241119T164713Z
UID:40300-1685115000-1685129400@odcec.ct.it
SUMMARY:Esperto di monitoraggio\, rendicontazione e controllo delle risorse del PNRR.
DESCRIPTION:
URL:https://odcec.ct.it/dettaglio-evento/esperto-di-monitoraggio-rendicontazione-e-controllo-delle-risorse-del-pnrr/
CATEGORIES:Eventi FPC
END:VEVENT
BEGIN:VEVENT
DTSTART;TZID=Europe/Rome:20230527T090000
DTEND;TZID=Europe/Rome:20230527T130000
DTSTAMP:20260422T173449
CREATED:20240729T101256Z
LAST-MODIFIED:20241119T164713Z
UID:40301-1685178000-1685192400@odcec.ct.it
SUMMARY:CORSO DI FORMAZIONE VALIDO PER L'ISCRIZIONE NELL'ELENCO DEI PROFESSIONISTI DELEGATI ALLE OPERAZIONI DI VENDITA NELLE ESECUZIONI FORZATE EX ART. 179 TER DISP. ATT.CPC
DESCRIPTION:
URL:https://odcec.ct.it/dettaglio-evento/corso-di-formazione-valido-per-liscrizione-nellelenco-dei-professionisti-delegati-alle-operazioni-di-vendita-nelle-esecuzioni-forzate-ex-art-179-ter-disp-attcpc/
CATEGORIES:Eventi FPC
END:VEVENT
BEGIN:VEVENT
DTSTART;TZID=Europe/Rome:20230529T100000
DTEND;TZID=Europe/Rome:20230529T130000
DTSTAMP:20260422T173449
CREATED:20240729T101256Z
LAST-MODIFIED:20241119T164713Z
UID:40302-1685354400-1685365200@odcec.ct.it
SUMMARY:Le Ispezioni in materia di lavoro e sicurezza: regole\, procedure e strumenti di tutela
DESCRIPTION:
URL:https://odcec.ct.it/dettaglio-evento/le-ispezioni-in-materia-di-lavoro-e-sicurezza-regole-procedure-e-strumenti-di-tutela/
CATEGORIES:Eventi FPC
END:VEVENT
BEGIN:VEVENT
DTSTART;TZID=Europe/Rome:20230529T153000
DTEND;TZID=Europe/Rome:20230529T193000
DTSTAMP:20260422T173449
CREATED:20240729T101256Z
LAST-MODIFIED:20241119T164713Z
UID:40303-1685374200-1685388600@odcec.ct.it
SUMMARY:Esperto di monitoraggio\, rendicontazione e controllo delle risorse del PNRR.
DESCRIPTION:
URL:https://odcec.ct.it/dettaglio-evento/esperto-di-monitoraggio-rendicontazione-e-controllo-delle-risorse-del-pnrr/
CATEGORIES:Eventi FPC
END:VEVENT
BEGIN:VEVENT
DTSTART;TZID=Europe/Rome:20230531T090000
DTEND;TZID=Europe/Rome:20230531T130000
DTSTAMP:20260422T173449
CREATED:20240729T101256Z
LAST-MODIFIED:20241119T164713Z
UID:40304-1685523600-1685538000@odcec.ct.it
SUMMARY:LA FINANZA COOPERATIVA: risposta alla crisi e opportunità di crescita
DESCRIPTION:
URL:https://odcec.ct.it/dettaglio-evento/la-finanza-cooperativa-risposta-alla-crisi-e-opportunit-di-crescita/
CATEGORIES:Eventi FPC
END:VEVENT
END:VCALENDAR