BEGIN:VCALENDAR
VERSION:2.0
PRODID:-//ODCEC Catania - ECPv6.8.1//NONSGML v1.0//EN
CALSCALE:GREGORIAN
METHOD:PUBLISH
X-ORIGINAL-URL:https://odcec.ct.it
X-WR-CALDESC:Eventi per ODCEC Catania
REFRESH-INTERVAL;VALUE=DURATION:PT1H
X-Robots-Tag:noindex
X-PUBLISHED-TTL:PT1H
BEGIN:VTIMEZONE
TZID:Europe/Rome
BEGIN:DAYLIGHT
TZOFFSETFROM:+0100
TZOFFSETTO:+0200
TZNAME:CEST
DTSTART:20220327T010000
END:DAYLIGHT
BEGIN:STANDARD
TZOFFSETFROM:+0200
TZOFFSETTO:+0100
TZNAME:CET
DTSTART:20221030T010000
END:STANDARD
END:VTIMEZONE
BEGIN:VEVENT
DTSTART;TZID=Europe/Rome:20221212T090000
DTEND;TZID=Europe/Rome:20221212T140000
DTSTAMP:20260423T005247
CREATED:20240729T101254Z
LAST-MODIFIED:20241119T164712Z
UID:40263-1670835600-1670853600@odcec.ct.it
SUMMARY:Corso Revisori Enti Locali 2022 - LE SOCIETÀ PUBBLICHE - GOVERNACE - OPERAZIONI STRAORDINARIE LA CRISI DI IMPRESA ED IL NUOVO RUOLO NEL PNRR
DESCRIPTION:
URL:https://odcec.ct.it/dettaglio-evento/corso-revisori-enti-locali-2022-le-societ-pubbliche-governace-operazioni-straordinarie-la-crisi-di-impresa-ed-il-nuovo-ruolo-nel-pnrr/
CATEGORIES:Eventi FPC
END:VEVENT
BEGIN:VEVENT
DTSTART;TZID=Europe/Rome:20221213T090000
DTEND;TZID=Europe/Rome:20221213T140000
DTSTAMP:20260423T005247
CREATED:20240729T101254Z
LAST-MODIFIED:20241119T164712Z
UID:40264-1670922000-1670940000@odcec.ct.it
SUMMARY:Corso Revisori Enti Locali 2022 - LE SOCIETÀ PUBBLICHE - GOVERNACE - OPERAZIONI STRAORDINARIE LA CRISI DI IMPRESA ED IL NUOVO RUOLO NEL PNRR
DESCRIPTION:
URL:https://odcec.ct.it/dettaglio-evento/corso-revisori-enti-locali-2022-le-societ-pubbliche-governace-operazioni-straordinarie-la-crisi-di-impresa-ed-il-nuovo-ruolo-nel-pnrr/
CATEGORIES:Eventi FPC
END:VEVENT
BEGIN:VEVENT
DTSTART;TZID=Europe/Rome:20221215T150000
DTEND;TZID=Europe/Rome:20221215T180000
DTSTAMP:20260423T005247
CREATED:20240729T101254Z
LAST-MODIFIED:20241119T164712Z
UID:40265-1671116400-1671127200@odcec.ct.it
SUMMARY:Novità in Materia di Crisi d'Impresa
DESCRIPTION:
URL:https://odcec.ct.it/dettaglio-evento/novit-in-materia-di-crisi-dimpresa/
CATEGORIES:Eventi FPC
END:VEVENT
BEGIN:VEVENT
DTSTART;TZID=Europe/Rome:20221217T100000
DTEND;TZID=Europe/Rome:20221217T130000
DTSTAMP:20260423T005247
CREATED:20240729T101254Z
LAST-MODIFIED:20241119T164712Z
UID:40266-1671271200-1671282000@odcec.ct.it
SUMMARY:BONUS EDILIZI\, DOPO IL DECRETO AIUTI QUATER
DESCRIPTION:
URL:https://odcec.ct.it/dettaglio-evento/bonus-edilizi-dopo-il-decreto-aiuti-quater/
CATEGORIES:Eventi FPC
END:VEVENT
BEGIN:VEVENT
DTSTART;TZID=Europe/Rome:20221219T090000
DTEND;TZID=Europe/Rome:20221219T140000
DTSTAMP:20260423T005247
CREATED:20240729T101255Z
LAST-MODIFIED:20241119T164712Z
UID:40267-1671440400-1671458400@odcec.ct.it
SUMMARY:PNRR:PROFESSIONISTI A CONFRONTO. OPPORTUNITA'\, CRITICITA' E POSSIBILI SOLUZIONI
DESCRIPTION:
URL:https://odcec.ct.it/dettaglio-evento/pnrrprofessionisti-a-confronto-opportunita-criticita-e-possibili-soluzioni/
CATEGORIES:Eventi FPC
END:VEVENT
BEGIN:VEVENT
DTSTART;TZID=Europe/Rome:20221221T153000
DTEND;TZID=Europe/Rome:20221221T183000
DTSTAMP:20260423T005247
CREATED:20240729T101255Z
LAST-MODIFIED:20241119T164712Z
UID:40268-1671636600-1671647400@odcec.ct.it
SUMMARY:CURATORE E COMMISSARIO NEL CODICE DELLA CRISI D'IMPRESA E DELL'INSOLVENZA
DESCRIPTION:
URL:https://odcec.ct.it/dettaglio-evento/curatore-e-commissario-nel-codice-della-crisi-dimpresa-e-dellinsolvenza/
CATEGORIES:Eventi FPC
END:VEVENT
BEGIN:VEVENT
DTSTART;TZID=Europe/Rome:20221227T150000
DTEND;TZID=Europe/Rome:20221227T190000
DTSTAMP:20260423T005247
CREATED:20240729T101255Z
LAST-MODIFIED:20241119T164712Z
UID:40269-1672153200-1672167600@odcec.ct.it
SUMMARY:CORSO COACHING E SOFT SKILL - ANNO 2022/2023
DESCRIPTION:
URL:https://odcec.ct.it/dettaglio-evento/corso-coaching-e-soft-skill-anno-20222023/
CATEGORIES:Eventi FPC
END:VEVENT
BEGIN:VEVENT
DTSTART;TZID=Europe/Rome:20221228T090000
DTEND;TZID=Europe/Rome:20221228T180000
DTSTAMP:20260423T005247
CREATED:20240729T101255Z
LAST-MODIFIED:20241119T164712Z
UID:40270-1672218000-1672250400@odcec.ct.it
SUMMARY:GIORNATA DI AGGIORNAMENTO IN AULA - REVISORI LEGALI 2022
DESCRIPTION:
URL:https://odcec.ct.it/dettaglio-evento/giornata-di-aggiornamento-in-aula-revisori-legali-2022/
CATEGORIES:Eventi FPC
END:VEVENT
END:VCALENDAR