BEGIN:VCALENDAR
VERSION:2.0
PRODID:-//ODCEC Catania - ECPv6.8.1//NONSGML v1.0//EN
CALSCALE:GREGORIAN
METHOD:PUBLISH
X-WR-CALNAME:ODCEC Catania
X-ORIGINAL-URL:https://odcec.ct.it
X-WR-CALDESC:Eventi per ODCEC Catania
REFRESH-INTERVAL;VALUE=DURATION:PT1H
X-Robots-Tag:noindex
X-PUBLISHED-TTL:PT1H
BEGIN:VTIMEZONE
TZID:Europe/Rome
BEGIN:DAYLIGHT
TZOFFSETFROM:+0100
TZOFFSETTO:+0200
TZNAME:CEST
DTSTART:20220327T010000
END:DAYLIGHT
BEGIN:STANDARD
TZOFFSETFROM:+0200
TZOFFSETTO:+0100
TZNAME:CET
DTSTART:20221030T010000
END:STANDARD
END:VTIMEZONE
BEGIN:VEVENT
DTSTART;TZID=Europe/Rome:20220701T153000
DTEND;TZID=Europe/Rome:20220701T193000
DTSTAMP:20260423T085731
CREATED:20240729T101253Z
LAST-MODIFIED:20241119T164711Z
UID:40243-1656689400-1656703800@odcec.ct.it
SUMMARY:LA RIFORMA DELLA GIUSTIZIA TRIBUTARIA
DESCRIPTION:
URL:https://odcec.ct.it/dettaglio-evento/la-riforma-della-giustizia-tributaria/
CATEGORIES:Eventi FPC
END:VEVENT
BEGIN:VEVENT
DTSTART;TZID=Europe/Rome:20220708T093000
DTEND;TZID=Europe/Rome:20220708T190000
DTSTAMP:20260423T085731
CREATED:20240729T101253Z
LAST-MODIFIED:20241119T164711Z
UID:40244-1657272600-1657306800@odcec.ct.it
SUMMARY:IL PRINCIPIO DI INSULARITA' NEL NUOVO ART. 119 DELLA COSTITUZIONE - RIFLESSIONI ATTUATIVE E AUSPICABILI\, RICADUTE SULLA CONDIZIONE ECONOMICO-SOCIALE DI SICILIA E SARDEGNA.
DESCRIPTION:
URL:https://odcec.ct.it/dettaglio-evento/il-principio-di-insularita-nel-nuovo-art-119-della-costituzione-riflessioni-attuative-e-auspicabili-ricadute-sulla-condizione-economicosociale-di-sicilia-e-sardegna/
CATEGORIES:Eventi FPC
END:VEVENT
BEGIN:VEVENT
DTSTART;TZID=Europe/Rome:20220708T153000
DTEND;TZID=Europe/Rome:20220708T193000
DTSTAMP:20260423T085731
CREATED:20240729T101253Z
LAST-MODIFIED:20241119T164711Z
UID:40245-1657294200-1657308600@odcec.ct.it
SUMMARY:Professione PerEquità
DESCRIPTION:
URL:https://odcec.ct.it/dettaglio-evento/professione-perequit/
CATEGORIES:Eventi FPC
END:VEVENT
BEGIN:VEVENT
DTSTART;TZID=Europe/Rome:20220709T090000
DTEND;TZID=Europe/Rome:20220709T130000
DTSTAMP:20260423T085731
CREATED:20240729T101253Z
LAST-MODIFIED:20241119T164711Z
UID:40246-1657357200-1657371600@odcec.ct.it
SUMMARY:IL PRINCIPIO DI INSULARITA' NEL NUOVO ART. 119 DELLA COSTITUZIONE - RIFLESSIONI ATTUATIVE E AUSPICABILI\, RICADUTE SULLA CONDIZIONE ECONOMICO-SOCIALE DI SICILIA E SARDEGNA.
DESCRIPTION:
URL:https://odcec.ct.it/dettaglio-evento/il-principio-di-insularita-nel-nuovo-art-119-della-costituzione-riflessioni-attuative-e-auspicabili-ricadute-sulla-condizione-economicosociale-di-sicilia-e-sardegna/
CATEGORIES:Eventi FPC
END:VEVENT
BEGIN:VEVENT
DTSTART;TZID=Europe/Rome:20220719T150000
DTEND;TZID=Europe/Rome:20220719T170000
DTSTAMP:20260423T085731
CREATED:20240729T101254Z
LAST-MODIFIED:20241119T164711Z
UID:40247-1658242800-1658250000@odcec.ct.it
SUMMARY:UTILIZZO SERVIZI TELEMATICI - Inserimento delega cassetto fiscale\, fatture e corrispettivi.
DESCRIPTION:
URL:https://odcec.ct.it/dettaglio-evento/utilizzo-servizi-telematici-inserimento-delega-cassetto-fiscale-fatture-e-corrispettivi/
CATEGORIES:Eventi FPC
END:VEVENT
END:VCALENDAR