BEGIN:VCALENDAR
VERSION:2.0
PRODID:-//ODCEC Catania - ECPv6.8.1//NONSGML v1.0//EN
CALSCALE:GREGORIAN
METHOD:PUBLISH
X-ORIGINAL-URL:https://odcec.ct.it
X-WR-CALDESC:Eventi per ODCEC Catania
REFRESH-INTERVAL;VALUE=DURATION:PT1H
X-Robots-Tag:noindex
X-PUBLISHED-TTL:PT1H
BEGIN:VTIMEZONE
TZID:Europe/Rome
BEGIN:DAYLIGHT
TZOFFSETFROM:+0100
TZOFFSETTO:+0200
TZNAME:CEST
DTSTART:20220327T010000
END:DAYLIGHT
BEGIN:STANDARD
TZOFFSETFROM:+0200
TZOFFSETTO:+0100
TZNAME:CET
DTSTART:20221030T010000
END:STANDARD
END:VTIMEZONE
BEGIN:VEVENT
DTSTART;TZID=Europe/Rome:20220617T153000
DTEND;TZID=Europe/Rome:20220617T193000
DTSTAMP:20260423T101856
CREATED:20240729T101253Z
LAST-MODIFIED:20241119T164711Z
UID:40239-1655479800-1655494200@odcec.ct.it
SUMMARY:LA CERTIFICAZIONE DELLA "PARITA' DI GENERE"\, OPPORTUNITA' PER LE AZIENDE
DESCRIPTION:
URL:https://odcec.ct.it/dettaglio-evento/la-certificazione-della-parita-di-genere-opportunita-per-le-aziende/
CATEGORIES:Eventi FPC
END:VEVENT
BEGIN:VEVENT
DTSTART;TZID=Europe/Rome:20220624T160000
DTEND;TZID=Europe/Rome:20220624T190000
DTSTAMP:20260423T101856
CREATED:20240729T101253Z
LAST-MODIFIED:20241119T164711Z
UID:40240-1656086400-1656097200@odcec.ct.it
SUMMARY:IMPRESA PUBBLICA E DIRITTO CONCORSUALE
DESCRIPTION:
URL:https://odcec.ct.it/dettaglio-evento/impresa-pubblica-e-diritto-concorsuale/
CATEGORIES:Eventi FPC
END:VEVENT
BEGIN:VEVENT
DTSTART;TZID=Europe/Rome:20220625T093000
DTEND;TZID=Europe/Rome:20220625T123000
DTSTAMP:20260423T101856
CREATED:20240729T101253Z
LAST-MODIFIED:20241119T164711Z
UID:40241-1656149400-1656160200@odcec.ct.it
SUMMARY:IMPRESA PUBBLICA E DIRITTO CONCORSUALE
DESCRIPTION:
URL:https://odcec.ct.it/dettaglio-evento/impresa-pubblica-e-diritto-concorsuale/
CATEGORIES:Eventi FPC
END:VEVENT
BEGIN:VEVENT
DTSTART;TZID=Europe/Rome:20220627T100000
DTEND;TZID=Europe/Rome:20220627T120000
DTSTAMP:20260423T101856
CREATED:20240729T101253Z
LAST-MODIFIED:20241119T164711Z
UID:40242-1656324000-1656331200@odcec.ct.it
SUMMARY:LA ZES INCONTRA I TERRITORI
DESCRIPTION:
URL:https://odcec.ct.it/dettaglio-evento/la-zes-incontra-i-territori/
CATEGORIES:Eventi FPC
END:VEVENT
END:VCALENDAR