BEGIN:VCALENDAR
VERSION:2.0
PRODID:-//ODCEC Catania - ECPv6.8.1//NONSGML v1.0//EN
CALSCALE:GREGORIAN
METHOD:PUBLISH
X-ORIGINAL-URL:https://odcec.ct.it
X-WR-CALDESC:Eventi per ODCEC Catania
REFRESH-INTERVAL;VALUE=DURATION:PT1H
X-Robots-Tag:noindex
X-PUBLISHED-TTL:PT1H
BEGIN:VTIMEZONE
TZID:Europe/Rome
BEGIN:DAYLIGHT
TZOFFSETFROM:+0100
TZOFFSETTO:+0200
TZNAME:CEST
DTSTART:20220327T010000
END:DAYLIGHT
BEGIN:STANDARD
TZOFFSETFROM:+0200
TZOFFSETTO:+0100
TZNAME:CET
DTSTART:20221030T010000
END:STANDARD
END:VTIMEZONE
BEGIN:VEVENT
DTSTART;TZID=Europe/Rome:20220504T093000
DTEND;TZID=Europe/Rome:20220504T133000
DTSTAMP:20260423T113236
CREATED:20240729T101253Z
LAST-MODIFIED:20241119T164711Z
UID:40237-1651656600-1651671000@odcec.ct.it
SUMMARY:IL PROBLEMA DELL'ANATOCISMO NEI MUTUI BANCARI
DESCRIPTION:
URL:https://odcec.ct.it/dettaglio-evento/il-problema-dellanatocismo-nei-mutui-bancari/
CATEGORIES:Eventi FPC
END:VEVENT
BEGIN:VEVENT
DTSTART;TZID=Europe/Rome:20220520T160000
DTEND;TZID=Europe/Rome:20220520T193000
DTSTAMP:20260423T113236
CREATED:20240729T101253Z
LAST-MODIFIED:20241119T164711Z
UID:40238-1653062400-1653075000@odcec.ct.it
SUMMARY:POLITICHE E PRATICHE DI SICUREZZA CIBERNETICA PER FRONTEGGIARE ATTACCHI E RISCHI
DESCRIPTION:
URL:https://odcec.ct.it/dettaglio-evento/politiche-e-pratiche-di-sicurezza-cibernetica-per-fronteggiare-attacchi-e-rischi/
CATEGORIES:Eventi FPC
END:VEVENT
END:VCALENDAR