BEGIN:VCALENDAR
VERSION:2.0
PRODID:-//ODCEC Catania - ECPv6.8.1//NONSGML v1.0//EN
CALSCALE:GREGORIAN
METHOD:PUBLISH
X-WR-CALNAME:ODCEC Catania
X-ORIGINAL-URL:https://odcec.ct.it
X-WR-CALDESC:Eventi per ODCEC Catania
REFRESH-INTERVAL;VALUE=DURATION:PT1H
X-Robots-Tag:noindex
X-PUBLISHED-TTL:PT1H
BEGIN:VTIMEZONE
TZID:Europe/Rome
BEGIN:DAYLIGHT
TZOFFSETFROM:+0100
TZOFFSETTO:+0200
TZNAME:CEST
DTSTART:20220327T010000
END:DAYLIGHT
BEGIN:STANDARD
TZOFFSETFROM:+0200
TZOFFSETTO:+0100
TZNAME:CET
DTSTART:20221030T010000
END:STANDARD
END:VTIMEZONE
BEGIN:VEVENT
DTSTART;TZID=Europe/Rome:20220422T103000
DTEND;TZID=Europe/Rome:20220422T123000
DTSTAMP:20260423T125301
CREATED:20240729T101253Z
LAST-MODIFIED:20241119T164711Z
UID:40235-1650623400-1650630600@odcec.ct.it
SUMMARY:GLI STRUMENTI OBBLIGAZIONARI A SOSTEGNO DELLA CRESCITA DELLE PMI - DEMATERIALIZZAZIONE E QUOTAZIONE
DESCRIPTION:
URL:https://odcec.ct.it/dettaglio-evento/gli-strumenti-obbligazionari-a-sostegno-della-crescita-delle-pmi-dematerializzazione-e-quotazione/
CATEGORIES:Eventi FPC
END:VEVENT
BEGIN:VEVENT
DTSTART;TZID=Europe/Rome:20220428T153000
DTEND;TZID=Europe/Rome:20220428T193000
DTSTAMP:20260423T125301
CREATED:20240729T101253Z
LAST-MODIFIED:20241119T164711Z
UID:40236-1651159800-1651174200@odcec.ct.it
SUMMARY:AGEVOLAZIONI ED AIUTI PER LE IMPRESE FEMMINILI
DESCRIPTION:
URL:https://odcec.ct.it/dettaglio-evento/agevolazioni-ed-aiuti-per-le-imprese-femminili/
CATEGORIES:Eventi FPC
END:VEVENT
END:VCALENDAR