BEGIN:VCALENDAR
VERSION:2.0
PRODID:-//ODCEC Catania - ECPv6.8.1//NONSGML v1.0//EN
CALSCALE:GREGORIAN
METHOD:PUBLISH
X-WR-CALNAME:ODCEC Catania
X-ORIGINAL-URL:https://odcec.ct.it
X-WR-CALDESC:Eventi per ODCEC Catania
REFRESH-INTERVAL;VALUE=DURATION:PT1H
X-Robots-Tag:noindex
X-PUBLISHED-TTL:PT1H
BEGIN:VTIMEZONE
TZID:Europe/Rome
BEGIN:DAYLIGHT
TZOFFSETFROM:+0100
TZOFFSETTO:+0200
TZNAME:CEST
DTSTART:20240331T010000
END:DAYLIGHT
BEGIN:STANDARD
TZOFFSETFROM:+0200
TZOFFSETTO:+0100
TZNAME:CET
DTSTART:20241027T010000
END:STANDARD
END:VTIMEZONE
BEGIN:VEVENT
DTSTART;TZID=Europe/Rome:20240730T183200
DTEND;TZID=Europe/Rome:20240730T183300
DTSTAMP:20260422T011428
CREATED:20240730T163357Z
LAST-MODIFIED:20240730T163357Z
UID:88984-1722364320-1722364380@odcec.ct.it
SUMMARY:Algoritmi – Le novità della dichiarazione dei redditi 2014
DESCRIPTION:TEST EVENT
URL:https://odcec.ct.it/dettaglio-evento/algoritmi-le-novita-della-dichiarazione-dei-redditi-2014/
CATEGORIES:Eventi esterni
END:VEVENT
END:VCALENDAR